BEGIN:VCALENDAR
VERSION:2.0
PRODID:-//qathet Regional District - ECPv6.15.18//NONSGML v1.0//EN
CALSCALE:GREGORIAN
METHOD:PUBLISH
X-ORIGINAL-URL:https://qathet.ca
X-WR-CALDESC:Events for qathet Regional District
REFRESH-INTERVAL;VALUE=DURATION:PT1H
X-Robots-Tag:noindex
X-PUBLISHED-TTL:PT1H
BEGIN:VTIMEZONE
TZID:America/Vancouver
BEGIN:DAYLIGHT
TZOFFSETFROM:-0800
TZOFFSETTO:-0700
TZNAME:PDT
DTSTART:20230312T100000
END:DAYLIGHT
BEGIN:STANDARD
TZOFFSETFROM:-0700
TZOFFSETTO:-0800
TZNAME:PST
DTSTART:20231105T090000
END:STANDARD
BEGIN:DAYLIGHT
TZOFFSETFROM:-0800
TZOFFSETTO:-0700
TZNAME:PDT
DTSTART:20240310T100000
END:DAYLIGHT
BEGIN:STANDARD
TZOFFSETFROM:-0700
TZOFFSETTO:-0800
TZNAME:PST
DTSTART:20241103T090000
END:STANDARD
BEGIN:DAYLIGHT
TZOFFSETFROM:-0800
TZOFFSETTO:-0700
TZNAME:PDT
DTSTART:20250309T100000
END:DAYLIGHT
BEGIN:STANDARD
TZOFFSETFROM:-0700
TZOFFSETTO:-0800
TZNAME:PST
DTSTART:20251102T090000
END:STANDARD
END:VTIMEZONE
BEGIN:VEVENT
DTSTART;TZID=America/Vancouver:20241106T123000
DTEND;TZID=America/Vancouver:20241106T123000
DTSTAMP:20260417T153825
CREATED:20240103T222936Z
LAST-MODIFIED:20240103T222936Z
UID:10001612-1730896200-1730896200@qathet.ca
SUMMARY:FINANCE COMMITTEE
DESCRIPTION:
URL:https://qathet.ca/event/finance-committee-53/
LOCATION:Virtual and In-person RD Boardroom\, 201 - 4675 Marine Ave\, Powell River\, BC\, V8A 2L2\, Canada
CATEGORIES:Finance Committee
END:VEVENT
BEGIN:VEVENT
DTSTART;TZID=America/Vancouver:20241106T103000
DTEND;TZID=America/Vancouver:20241106T103000
DTSTAMP:20260417T153825
CREATED:20240103T222306Z
LAST-MODIFIED:20240103T222306Z
UID:10001601-1730889000-1730889000@qathet.ca
SUMMARY:PLANNING COMMITTEE
DESCRIPTION:
URL:https://qathet.ca/event/planning-committee-57/
LOCATION:Virtual and In-person RD Boardroom\, 201 - 4675 Marine Ave\, Powell River\, BC\, V8A 2L2\, Canada
CATEGORIES:Planning Committee
END:VEVENT
BEGIN:VEVENT
DTSTART;TZID=America/Vancouver:20241023T153000
DTEND;TZID=America/Vancouver:20241023T153000
DTSTAMP:20260417T153825
CREATED:20240103T224734Z
LAST-MODIFIED:20240103T224734Z
UID:10001632-1729697400-1729697400@qathet.ca
SUMMARY:REGIONAL BOARD
DESCRIPTION:
URL:https://qathet.ca/event/regional-board-71/
LOCATION:Virtual and In-person RD Boardroom\, 201 - 4675 Marine Ave\, Powell River\, BC\, V8A 2L2\, Canada
CATEGORIES:Regional Board
END:VEVENT
BEGIN:VEVENT
DTSTART;TZID=America/Vancouver:20241023T103000
DTEND;TZID=America/Vancouver:20241023T103000
DTSTAMP:20260417T153825
CREATED:20240103T225757Z
LAST-MODIFIED:20240103T225757Z
UID:10001645-1729679400-1729679400@qathet.ca
SUMMARY:COMMITTEE OF THE WHOLE
DESCRIPTION:
URL:https://qathet.ca/event/committee-of-the-whole-56/
LOCATION:Virtual and In-person RD Boardroom\, 201 - 4675 Marine Ave\, Powell River\, BC\, V8A 2L2\, Canada
CATEGORIES:Committee of the Whole
END:VEVENT
BEGIN:VEVENT
DTSTART;TZID=America/Vancouver:20241016T160000
DTEND;TZID=America/Vancouver:20241016T170000
DTSTAMP:20260417T153825
CREATED:20241015T230237Z
LAST-MODIFIED:20241015T230237Z
UID:10001829-1729094400-1729098000@qathet.ca
SUMMARY:NEW - SPECIAL REGIONAL HOSPITAL DISTRICT BOARD MEETING
DESCRIPTION:
URL:https://qathet.ca/event/new-special-regional-hospital-district-board-meeting/
LOCATION:Virtual and In-person RD Boardroom\, 201 - 4675 Marine Ave\, Powell River\, BC\, V8A 2L2\, Canada
CATEGORIES:Regional Hospital District Board
END:VEVENT
BEGIN:VEVENT
DTSTART;TZID=America/Vancouver:20241002T153000
DTEND;TZID=America/Vancouver:20241002T153000
DTSTAMP:20260417T153825
CREATED:20240103T224659Z
LAST-MODIFIED:20240916T212211Z
UID:10001631-1727883000-1727883000@qathet.ca
SUMMARY:CANCELLED - REGIONAL BOARD
DESCRIPTION:
URL:https://qathet.ca/event/regional-board-70/
LOCATION:Virtual and In-person RD Boardroom\, 201 - 4675 Marine Ave\, Powell River\, BC\, V8A 2L2\, Canada
CATEGORIES:Regional Board
END:VEVENT
BEGIN:VEVENT
DTSTART;TZID=America/Vancouver:20241002T123000
DTEND;TZID=America/Vancouver:20241002T123000
DTSTAMP:20260417T153825
CREATED:20240103T222901Z
LAST-MODIFIED:20240916T212015Z
UID:10001611-1727872200-1727872200@qathet.ca
SUMMARY:CANCELLED - FINANCE COMMITTEE
DESCRIPTION:
URL:https://qathet.ca/event/finance-committee-52/
LOCATION:Virtual and In-person RD Boardroom\, 201 - 4675 Marine Ave\, Powell River\, BC\, V8A 2L2\, Canada
CATEGORIES:Finance Committee
END:VEVENT
BEGIN:VEVENT
DTSTART;TZID=America/Vancouver:20241002T103000
DTEND;TZID=America/Vancouver:20241002T103000
DTSTAMP:20260417T153825
CREATED:20240103T222228Z
LAST-MODIFIED:20240916T212106Z
UID:10001600-1727865000-1727865000@qathet.ca
SUMMARY:CANCELLED - PLANNING COMMITTEE
DESCRIPTION:
URL:https://qathet.ca/event/planning-committee-56/
LOCATION:Virtual and In-person RD Boardroom\, 201 - 4675 Marine Ave\, Powell River\, BC\, V8A 2L2\, Canada
CATEGORIES:Planning Committee
END:VEVENT
BEGIN:VEVENT
DTSTART;TZID=America/Vancouver:20240925T153000
DTEND;TZID=America/Vancouver:20240925T153000
DTSTAMP:20260417T153825
CREATED:20240103T224539Z
LAST-MODIFIED:20240103T224539Z
UID:10001630-1727278200-1727278200@qathet.ca
SUMMARY:REGIONAL BOARD
DESCRIPTION:
URL:https://qathet.ca/event/regional-board-69/
LOCATION:Virtual and In-person RD Boardroom\, 201 - 4675 Marine Ave\, Powell River\, BC\, V8A 2L2\, Canada
CATEGORIES:Regional Board
END:VEVENT
BEGIN:VEVENT
DTSTART;TZID=America/Vancouver:20240925T150000
DTEND;TZID=America/Vancouver:20240925T150000
DTSTAMP:20260417T153825
CREATED:20240103T230302Z
LAST-MODIFIED:20240103T230302Z
UID:10001651-1727276400-1727276400@qathet.ca
SUMMARY:REGIONAL HOSPITAL DISTRICT BOARD
DESCRIPTION:
URL:https://qathet.ca/event/regional-hospital-district-board-22/
LOCATION:Virtual and In-person RD Boardroom\, 201 - 4675 Marine Ave\, Powell River\, BC\, V8A 2L2\, Canada
CATEGORIES:Regional Hospital District Board
END:VEVENT
BEGIN:VEVENT
DTSTART;TZID=America/Vancouver:20240925T103000
DTEND;TZID=America/Vancouver:20240925T103000
DTSTAMP:20260417T153825
CREATED:20240103T225721Z
LAST-MODIFIED:20240103T225721Z
UID:10001644-1727260200-1727260200@qathet.ca
SUMMARY:COMMITTEE OF THE WHOLE
DESCRIPTION:
URL:https://qathet.ca/event/committee-of-the-whole-55/
LOCATION:Virtual and In-person RD Boardroom\, 201 - 4675 Marine Ave\, Powell River\, BC\, V8A 2L2\, Canada
CATEGORIES:Committee of the Whole
END:VEVENT
BEGIN:VEVENT
DTSTART;TZID=America/Vancouver:20240904T153000
DTEND;TZID=America/Vancouver:20240904T153000
DTSTAMP:20260417T153825
CREATED:20240103T224506Z
LAST-MODIFIED:20240103T224506Z
UID:10001629-1725463800-1725463800@qathet.ca
SUMMARY:REGIONAL BOARD
DESCRIPTION:
URL:https://qathet.ca/event/regional-board-68/
LOCATION:Virtual and In-person RD Boardroom\, 201 - 4675 Marine Ave\, Powell River\, BC\, V8A 2L2\, Canada
CATEGORIES:Regional Board
END:VEVENT
BEGIN:VEVENT
DTSTART;TZID=America/Vancouver:20240904T123000
DTEND;TZID=America/Vancouver:20240904T123000
DTSTAMP:20260417T153825
CREATED:20240103T222823Z
LAST-MODIFIED:20240103T222823Z
UID:10001610-1725453000-1725453000@qathet.ca
SUMMARY:FINANCE COMMITTEE
DESCRIPTION:
URL:https://qathet.ca/event/finance-committee-51/
LOCATION:Virtual and In-person RD Boardroom\, 201 - 4675 Marine Ave\, Powell River\, BC\, V8A 2L2\, Canada
CATEGORIES:Finance Committee
END:VEVENT
BEGIN:VEVENT
DTSTART;TZID=America/Vancouver:20240904T103000
DTEND;TZID=America/Vancouver:20240904T103000
DTSTAMP:20260417T153825
CREATED:20240103T222143Z
LAST-MODIFIED:20240103T222143Z
UID:10001599-1725445800-1725445800@qathet.ca
SUMMARY:PLANNING COMMITTEE
DESCRIPTION:
URL:https://qathet.ca/event/planning-committee-55/
LOCATION:Virtual and In-person RD Boardroom\, 201 - 4675 Marine Ave\, Powell River\, BC\, V8A 2L2\, Canada
CATEGORIES:Planning Committee
END:VEVENT
BEGIN:VEVENT
DTSTART;TZID=America/Vancouver:20240807T153000
DTEND;TZID=America/Vancouver:20240807T153000
DTSTAMP:20260417T153825
CREATED:20240103T224406Z
LAST-MODIFIED:20240103T224406Z
UID:10001627-1723044600-1723044600@qathet.ca
SUMMARY:REGIONAL BOARD
DESCRIPTION:
URL:https://qathet.ca/event/regional-board-66/
LOCATION:Virtual and In-person RD Boardroom\, 201 - 4675 Marine Ave\, Powell River\, BC\, V8A 2L2\, Canada
CATEGORIES:Regional Board
END:VEVENT
BEGIN:VEVENT
DTSTART;TZID=America/Vancouver:20240807T123000
DTEND;TZID=America/Vancouver:20240807T123000
DTSTAMP:20260417T153825
CREATED:20240103T222750Z
LAST-MODIFIED:20240103T222750Z
UID:10001609-1723033800-1723033800@qathet.ca
SUMMARY:FINANCE COMMITTEE
DESCRIPTION:
URL:https://qathet.ca/event/finance-committee-50/
LOCATION:Virtual and In-person RD Boardroom\, 201 - 4675 Marine Ave\, Powell River\, BC\, V8A 2L2\, Canada
CATEGORIES:Finance Committee
END:VEVENT
BEGIN:VEVENT
DTSTART;TZID=America/Vancouver:20240807T103000
DTEND;TZID=America/Vancouver:20240807T103000
DTSTAMP:20260417T153825
CREATED:20240103T222105Z
LAST-MODIFIED:20240103T222105Z
UID:10001598-1723026600-1723026600@qathet.ca
SUMMARY:PLANNING COMMITTEE
DESCRIPTION:
URL:https://qathet.ca/event/planning-committee-54/
LOCATION:Virtual and In-person RD Boardroom\, 201 - 4675 Marine Ave\, Powell River\, BC\, V8A 2L2\, Canada
CATEGORIES:Planning Committee
END:VEVENT
BEGIN:VEVENT
DTSTART;TZID=America/Vancouver:20240724T153000
DTEND;TZID=America/Vancouver:20240724T153000
DTSTAMP:20260417T153825
CREATED:20240103T224342Z
LAST-MODIFIED:20240103T224342Z
UID:10001626-1721835000-1721835000@qathet.ca
SUMMARY:REGIONAL BOARD
DESCRIPTION:
URL:https://qathet.ca/event/regional-board-65/
LOCATION:Virtual and In-person RD Boardroom\, 201 - 4675 Marine Ave\, Powell River\, BC\, V8A 2L2\, Canada
CATEGORIES:Regional Board
END:VEVENT
BEGIN:VEVENT
DTSTART;TZID=America/Vancouver:20240724T103000
DTEND;TZID=America/Vancouver:20240724T103000
DTSTAMP:20260417T153825
CREATED:20240103T225610Z
LAST-MODIFIED:20240103T225610Z
UID:10001642-1721817000-1721817000@qathet.ca
SUMMARY:COMMITTEE OF THE WHOLE
DESCRIPTION:
URL:https://qathet.ca/event/committee-of-the-whole-53/
LOCATION:Virtual and In-person RD Boardroom\, 201 - 4675 Marine Ave\, Powell River\, BC\, V8A 2L2\, Canada
CATEGORIES:Committee of the Whole
END:VEVENT
BEGIN:VEVENT
DTSTART;TZID=America/Vancouver:20240703T153000
DTEND;TZID=America/Vancouver:20240703T153000
DTSTAMP:20260417T153825
CREATED:20240103T224301Z
LAST-MODIFIED:20240103T224301Z
UID:10001625-1720020600-1720020600@qathet.ca
SUMMARY:REGIONAL BOARD
DESCRIPTION:
URL:https://qathet.ca/event/regional-board-64/
LOCATION:Virtual and In-person RD Boardroom\, 201 - 4675 Marine Ave\, Powell River\, BC\, V8A 2L2\, Canada
CATEGORIES:Regional Board
END:VEVENT
BEGIN:VEVENT
DTSTART;TZID=America/Vancouver:20240703T123000
DTEND;TZID=America/Vancouver:20240703T123000
DTSTAMP:20260417T153825
CREATED:20240103T222714Z
LAST-MODIFIED:20240103T222714Z
UID:10001608-1720009800-1720009800@qathet.ca
SUMMARY:FINANCE COMMITTEE
DESCRIPTION:
URL:https://qathet.ca/event/finance-committee-49/
LOCATION:Virtual and In-person RD Boardroom\, 201 - 4675 Marine Ave\, Powell River\, BC\, V8A 2L2\, Canada
CATEGORIES:Finance Committee
END:VEVENT
BEGIN:VEVENT
DTSTART;TZID=America/Vancouver:20240703T103000
DTEND;TZID=America/Vancouver:20240703T103000
DTSTAMP:20260417T153825
CREATED:20240103T222026Z
LAST-MODIFIED:20240103T222026Z
UID:10001597-1720002600-1720002600@qathet.ca
SUMMARY:PLANNING COMMITTEE
DESCRIPTION:
URL:https://qathet.ca/event/planning-committee-53/
LOCATION:Virtual and In-person RD Boardroom\, 201 - 4675 Marine Ave\, Powell River\, BC\, V8A 2L2\, Canada
CATEGORIES:Planning Committee
END:VEVENT
BEGIN:VEVENT
DTSTART;TZID=America/Vancouver:20240626T153000
DTEND;TZID=America/Vancouver:20240626T153000
DTSTAMP:20260417T153825
CREATED:20240103T224229Z
LAST-MODIFIED:20240103T224229Z
UID:10001624-1719415800-1719415800@qathet.ca
SUMMARY:REGIONAL BOARD
DESCRIPTION:
URL:https://qathet.ca/event/regional-board-63/
LOCATION:Virtual and In-person RD Boardroom\, 201 - 4675 Marine Ave\, Powell River\, BC\, V8A 2L2\, Canada
CATEGORIES:Regional Board
END:VEVENT
BEGIN:VEVENT
DTSTART;TZID=America/Vancouver:20240626T103000
DTEND;TZID=America/Vancouver:20240626T103000
DTSTAMP:20260417T153825
CREATED:20240103T225532Z
LAST-MODIFIED:20240103T225532Z
UID:10001641-1719397800-1719397800@qathet.ca
SUMMARY:COMMITTEE OF THE WHOLE
DESCRIPTION:
URL:https://qathet.ca/event/committee-of-the-whole-52/
LOCATION:Virtual and In-person RD Boardroom\, 201 - 4675 Marine Ave\, Powell River\, BC\, V8A 2L2\, Canada
CATEGORIES:Committee of the Whole
END:VEVENT
BEGIN:VEVENT
DTSTART;TZID=America/Vancouver:20240605T153000
DTEND;TZID=America/Vancouver:20240605T153000
DTSTAMP:20260417T153825
CREATED:20240103T224204Z
LAST-MODIFIED:20240103T224204Z
UID:10001623-1717601400-1717601400@qathet.ca
SUMMARY:REGIONAL BOARD
DESCRIPTION:
URL:https://qathet.ca/event/regional-board-62/
LOCATION:Virtual and In-person RD Boardroom\, 201 - 4675 Marine Ave\, Powell River\, BC\, V8A 2L2\, Canada
CATEGORIES:Regional Board
END:VEVENT
BEGIN:VEVENT
DTSTART;TZID=America/Vancouver:20240605T123000
DTEND;TZID=America/Vancouver:20240605T123000
DTSTAMP:20260417T153825
CREATED:20240103T222648Z
LAST-MODIFIED:20240103T222648Z
UID:10001607-1717590600-1717590600@qathet.ca
SUMMARY:FINANCE COMMITTEE
DESCRIPTION:
URL:https://qathet.ca/event/finance-committee-48/
LOCATION:Virtual and In-person RD Boardroom\, 201 - 4675 Marine Ave\, Powell River\, BC\, V8A 2L2\, Canada
CATEGORIES:Finance Committee
END:VEVENT
BEGIN:VEVENT
DTSTART;TZID=America/Vancouver:20240605T103000
DTEND;TZID=America/Vancouver:20240605T103000
DTSTAMP:20260417T153825
CREATED:20240103T221951Z
LAST-MODIFIED:20240103T221951Z
UID:10001596-1717583400-1717583400@qathet.ca
SUMMARY:PLANNING COMMITTEE
DESCRIPTION:
URL:https://qathet.ca/event/planning-committee-52/
LOCATION:Virtual and In-person RD Boardroom\, 201 - 4675 Marine Ave\, Powell River\, BC\, V8A 2L2\, Canada
CATEGORIES:Planning Committee
END:VEVENT
BEGIN:VEVENT
DTSTART;TZID=America/Vancouver:20240522T153000
DTEND;TZID=America/Vancouver:20240522T153000
DTSTAMP:20260417T153825
CREATED:20240103T224128Z
LAST-MODIFIED:20240103T224128Z
UID:10001622-1716391800-1716391800@qathet.ca
SUMMARY:REGIONAL BOARD
DESCRIPTION:
URL:https://qathet.ca/event/regional-board-61/
LOCATION:Virtual and In-person RD Boardroom\, 201 - 4675 Marine Ave\, Powell River\, BC\, V8A 2L2\, Canada
CATEGORIES:Regional Board
END:VEVENT
BEGIN:VEVENT
DTSTART;TZID=America/Vancouver:20240522T150000
DTEND;TZID=America/Vancouver:20240522T150000
DTSTAMP:20260417T153825
CREATED:20240507T214111Z
LAST-MODIFIED:20240507T215755Z
UID:10001692-1716390000-1716390000@qathet.ca
SUMMARY:**NOTE: NEW MEETING** REGIONAL HOSPITAL DISTRICT BOARD
DESCRIPTION:
URL:https://qathet.ca/event/regional-hospital-district-board-24/
LOCATION:Virtual and In-person RD Boardroom\, 201 - 4675 Marine Ave\, Powell River\, BC\, V8A 2L2\, Canada
CATEGORIES:Regional Hospital District Board
END:VEVENT
BEGIN:VEVENT
DTSTART;TZID=America/Vancouver:20240522T103000
DTEND;TZID=America/Vancouver:20240522T103000
DTSTAMP:20260417T153825
CREATED:20240103T225454Z
LAST-MODIFIED:20240103T225454Z
UID:10001640-1716373800-1716373800@qathet.ca
SUMMARY:COMMITTEE OF THE WHOLE
DESCRIPTION:
URL:https://qathet.ca/event/committee-of-the-whole-51/
LOCATION:Virtual and In-person RD Boardroom\, 201 - 4675 Marine Ave\, Powell River\, BC\, V8A 2L2\, Canada
CATEGORIES:Committee of the Whole
END:VEVENT
END:VCALENDAR