BEGIN:VCALENDAR
VERSION:2.0
PRODID:-//qathet Regional District - ECPv6.15.18//NONSGML v1.0//EN
CALSCALE:GREGORIAN
METHOD:PUBLISH
X-WR-CALNAME:qathet Regional District
X-ORIGINAL-URL:https://qathet.ca
X-WR-CALDESC:Events for qathet Regional District
REFRESH-INTERVAL;VALUE=DURATION:PT1H
X-Robots-Tag:noindex
X-PUBLISHED-TTL:PT1H
BEGIN:VTIMEZONE
TZID:America/Vancouver
BEGIN:DAYLIGHT
TZOFFSETFROM:-0800
TZOFFSETTO:-0700
TZNAME:PDT
DTSTART:20210314T100000
END:DAYLIGHT
BEGIN:STANDARD
TZOFFSETFROM:-0700
TZOFFSETTO:-0800
TZNAME:PST
DTSTART:20211107T090000
END:STANDARD
BEGIN:DAYLIGHT
TZOFFSETFROM:-0800
TZOFFSETTO:-0700
TZNAME:PDT
DTSTART:20220313T100000
END:DAYLIGHT
BEGIN:STANDARD
TZOFFSETFROM:-0700
TZOFFSETTO:-0800
TZNAME:PST
DTSTART:20221106T090000
END:STANDARD
BEGIN:DAYLIGHT
TZOFFSETFROM:-0800
TZOFFSETTO:-0700
TZNAME:PDT
DTSTART:20230312T100000
END:DAYLIGHT
BEGIN:STANDARD
TZOFFSETFROM:-0700
TZOFFSETTO:-0800
TZNAME:PST
DTSTART:20231105T090000
END:STANDARD
END:VTIMEZONE
BEGIN:VEVENT
DTSTART;TZID=America/Vancouver:20221128T094500
DTEND;TZID=America/Vancouver:20221128T094500
DTSTAMP:20260422T060033
CREATED:20221118T232012Z
LAST-MODIFIED:20221118T232230Z
UID:10000654-1669628700-1669628700@qathet.ca
SUMMARY:Texada Airport Advisory Committee (TAAC)
DESCRIPTION:
URL:https://qathet.ca/event/texada-airport-advisory-committee-3/
LOCATION:Texada Island Community Hall\, 4913 Gillies Bay Rd\, Gillies Bay\, BC\, V0N 1W0\, Canada
END:VEVENT
BEGIN:VEVENT
DTSTART;TZID=America/Vancouver:20221117T160000
DTEND;TZID=America/Vancouver:20221117T190000
DTSTAMP:20260422T060033
CREATED:20221107T181724Z
LAST-MODIFIED:20221107T181724Z
UID:10000649-1668700800-1668711600@qathet.ca
SUMMARY:Parks & Trails Strategy - Area 'D' Open House
DESCRIPTION:2022101 qRD Parks and Trails Strategy
URL:https://qathet.ca/event/parks-trails-strategy-area-d-open-house/
LOCATION:Texada Island Community Hall\, 4913 Gillies Bay Rd\, Gillies Bay\, BC\, V0N 1W0\, Canada
ATTACH;FMTTYPE=image/png:https://qathet.ca/wp-content/uploads/2022/09/natural-park.png
END:VEVENT
END:VCALENDAR