BEGIN:VCALENDAR
VERSION:2.0
PRODID:-//qathet Regional District - ECPv6.15.18//NONSGML v1.0//EN
CALSCALE:GREGORIAN
METHOD:PUBLISH
X-ORIGINAL-URL:https://qathet.ca
X-WR-CALDESC:Events for qathet Regional District
REFRESH-INTERVAL;VALUE=DURATION:PT1H
X-Robots-Tag:noindex
X-PUBLISHED-TTL:PT1H
BEGIN:VTIMEZONE
TZID:America/Vancouver
BEGIN:DAYLIGHT
TZOFFSETFROM:-0800
TZOFFSETTO:-0700
TZNAME:PDT
DTSTART:20190310T100000
END:DAYLIGHT
BEGIN:STANDARD
TZOFFSETFROM:-0700
TZOFFSETTO:-0800
TZNAME:PST
DTSTART:20191103T090000
END:STANDARD
BEGIN:DAYLIGHT
TZOFFSETFROM:-0800
TZOFFSETTO:-0700
TZNAME:PDT
DTSTART:20200308T100000
END:DAYLIGHT
BEGIN:STANDARD
TZOFFSETFROM:-0700
TZOFFSETTO:-0800
TZNAME:PST
DTSTART:20201101T090000
END:STANDARD
BEGIN:DAYLIGHT
TZOFFSETFROM:-0800
TZOFFSETTO:-0700
TZNAME:PDT
DTSTART:20210314T100000
END:DAYLIGHT
BEGIN:STANDARD
TZOFFSETFROM:-0700
TZOFFSETTO:-0800
TZNAME:PST
DTSTART:20211107T090000
END:STANDARD
END:VTIMEZONE
BEGIN:VEVENT
DTSTART;TZID=America/Vancouver:20200610T170000
DTEND;TZID=America/Vancouver:20200610T170000
DTSTAMP:20260417T160738
CREATED:20200525T215526Z
LAST-MODIFIED:20200525T215526Z
UID:10000415-1591808400-1591808400@qathet.ca
SUMMARY:Texada Island Recreation Commission
DESCRIPTION:
URL:https://qathet.ca/event/texada-island-recreation-commission/
LOCATION:Shelter Point Park Group Site\, 4349 Shelter Point Rd\, Gillies Bay\, BC\, V0N 1W0\, Canada
END:VEVENT
END:VCALENDAR