BEGIN:VCALENDAR
VERSION:2.0
PRODID:-//qathet Regional District - ECPv6.15.18//NONSGML v1.0//EN
CALSCALE:GREGORIAN
METHOD:PUBLISH
X-ORIGINAL-URL:https://qathet.ca
X-WR-CALDESC:Events for qathet Regional District
REFRESH-INTERVAL;VALUE=DURATION:PT1H
X-Robots-Tag:noindex
X-PUBLISHED-TTL:PT1H
BEGIN:VTIMEZONE
TZID:America/Vancouver
BEGIN:DAYLIGHT
TZOFFSETFROM:-0800
TZOFFSETTO:-0700
TZNAME:PDT
DTSTART:20240310T100000
END:DAYLIGHT
BEGIN:STANDARD
TZOFFSETFROM:-0700
TZOFFSETTO:-0800
TZNAME:PST
DTSTART:20241103T090000
END:STANDARD
BEGIN:DAYLIGHT
TZOFFSETFROM:-0800
TZOFFSETTO:-0700
TZNAME:PDT
DTSTART:20250309T100000
END:DAYLIGHT
BEGIN:STANDARD
TZOFFSETFROM:-0700
TZOFFSETTO:-0800
TZNAME:PST
DTSTART:20251102T090000
END:STANDARD
BEGIN:DAYLIGHT
TZOFFSETFROM:-0800
TZOFFSETTO:-0700
TZNAME:PDT
DTSTART:20260308T100000
END:DAYLIGHT
BEGIN:STANDARD
TZOFFSETFROM:-0700
TZOFFSETTO:-0800
TZNAME:PST
DTSTART:20261101T090000
END:STANDARD
END:VTIMEZONE
BEGIN:VEVENT
DTSTART;TZID=America/Vancouver:20251110T130000
DTEND;TZID=America/Vancouver:20251110T140000
DTSTAMP:20260421T073232
CREATED:20251107T192421Z
LAST-MODIFIED:20251107T192421Z
UID:10001963-1762779600-1762783200@qathet.ca
SUMMARY:Special Regional Hospital District Board Meeting
DESCRIPTION:
URL:https://qathet.ca/event/special-regional-hospital-district-board-meeting-4/
LOCATION:Virtual and In-person RD Boardroom\, 201 - 4675 Marine Ave\, Powell River\, BC\, V8A 2L2\, Canada
END:VEVENT
BEGIN:VEVENT
DTSTART;TZID=America/Vancouver:20251112T130000
DTEND;TZID=America/Vancouver:20251112T130000
DTSTAMP:20260421T073232
CREATED:20250106T221755Z
LAST-MODIFIED:20250106T221755Z
UID:10001854-1762952400-1762952400@qathet.ca
SUMMARY:FINANCE COMMITTEE
DESCRIPTION:
URL:https://qathet.ca/event/finance-committee-64/
LOCATION:Virtual and In-person RD Boardroom\, 201 - 4675 Marine Ave\, Powell River\, BC\, V8A 2L2\, Canada
CATEGORIES:Finance Committee
END:VEVENT
BEGIN:VEVENT
DTSTART;TZID=America/Vancouver:20251112T160000
DTEND;TZID=America/Vancouver:20251112T160000
DTSTAMP:20260421T073232
CREATED:20250114T194720Z
LAST-MODIFIED:20250114T194720Z
UID:10001917-1762963200-1762963200@qathet.ca
SUMMARY:REGIONAL BOARD (Inaugural Meeting)
DESCRIPTION:
URL:https://qathet.ca/event/regional-board-inaugural-meeting/
LOCATION:Virtual and In-person RD Boardroom\, 201 - 4675 Marine Ave\, Powell River\, BC\, V8A 2L2\, Canada
CATEGORIES:Regional Board
END:VEVENT
BEGIN:VEVENT
DTSTART;TZID=America/Vancouver:20251120T140000
DTEND;TZID=America/Vancouver:20251120T140000
DTSTAMP:20260421T073232
CREATED:20250721T230529Z
LAST-MODIFIED:20250721T230700Z
UID:10001941-1763647200-1763647200@qathet.ca
SUMMARY:Community Notification System Test
DESCRIPTION:The qathet Regional Emergency Preparedness Program will test the Community Notification System on Thursday\, November 20\, 2025 at 2:00 pm. \n  \nThe Community Notification System is designed to send critical messages by phone\, email\, or text message in an emergency.\nSign up or update your account at https://www.getrave.ca/smart911/ref/login.action?pa=qathetrd. \n  \nIf you have questions\, concerns\, or need assistance\, please contact the qathet Regional District at 604-485-2260 or emergency@qathet.ca.
URL:https://qathet.ca/event/community-notification-system-test-3/
LOCATION:qathet Regional District
END:VEVENT
BEGIN:VEVENT
DTSTART;TZID=America/Vancouver:20251125T160000
DTEND;TZID=America/Vancouver:20251125T160000
DTSTAMP:20260421T073232
CREATED:20250107T002048Z
LAST-MODIFIED:20251120T214429Z
UID:10001877-1764086400-1764086400@qathet.ca
SUMMARY:CANCELLED - PLANNING COMMITTEE
DESCRIPTION:
URL:https://qathet.ca/event/planning-committee-67/
LOCATION:Virtual and In-person RD Boardroom\, 201 - 4675 Marine Ave\, Powell River\, BC\, V8A 2L2\, Canada
CATEGORIES:Planning Committee
END:VEVENT
BEGIN:VEVENT
DTSTART;TZID=America/Vancouver:20251126T130000
DTEND;TZID=America/Vancouver:20251126T130000
DTSTAMP:20260421T073232
CREATED:20250110T170802Z
LAST-MODIFIED:20250110T170802Z
UID:10001892-1764162000-1764162000@qathet.ca
SUMMARY:COMMITTEE OF THE WHOLE
DESCRIPTION:
URL:https://qathet.ca/event/committee-of-the-whole-69/
LOCATION:Virtual and In-person RD Boardroom\, 201 - 4675 Marine Ave\, Powell River\, BC\, V8A 2L2\, Canada
CATEGORIES:Committee of the Whole
END:VEVENT
BEGIN:VEVENT
DTSTART;TZID=America/Vancouver:20251126T160000
DTEND;TZID=America/Vancouver:20251126T160000
DTSTAMP:20260421T073232
CREATED:20250114T194824Z
LAST-MODIFIED:20250114T194857Z
UID:10001918-1764172800-1764172800@qathet.ca
SUMMARY:REGIONAL BOARD
DESCRIPTION:
URL:https://qathet.ca/event/regional-board-94/
LOCATION:Virtual and In-person RD Boardroom\, 201 - 4675 Marine Ave\, Powell River\, BC\, V8A 2L2\, Canada
CATEGORIES:Regional Board
END:VEVENT
END:VCALENDAR