BEGIN:VCALENDAR
VERSION:2.0
PRODID:-//qathet Regional District - ECPv6.15.18//NONSGML v1.0//EN
CALSCALE:GREGORIAN
METHOD:PUBLISH
X-ORIGINAL-URL:https://qathet.ca
X-WR-CALDESC:Events for qathet Regional District
REFRESH-INTERVAL;VALUE=DURATION:PT1H
X-Robots-Tag:noindex
X-PUBLISHED-TTL:PT1H
BEGIN:VTIMEZONE
TZID:America/Vancouver
BEGIN:DAYLIGHT
TZOFFSETFROM:-0800
TZOFFSETTO:-0700
TZNAME:PDT
DTSTART:20240310T100000
END:DAYLIGHT
BEGIN:STANDARD
TZOFFSETFROM:-0700
TZOFFSETTO:-0800
TZNAME:PST
DTSTART:20241103T090000
END:STANDARD
BEGIN:DAYLIGHT
TZOFFSETFROM:-0800
TZOFFSETTO:-0700
TZNAME:PDT
DTSTART:20250309T100000
END:DAYLIGHT
BEGIN:STANDARD
TZOFFSETFROM:-0700
TZOFFSETTO:-0800
TZNAME:PST
DTSTART:20251102T090000
END:STANDARD
BEGIN:DAYLIGHT
TZOFFSETFROM:-0800
TZOFFSETTO:-0700
TZNAME:PDT
DTSTART:20260308T100000
END:DAYLIGHT
BEGIN:STANDARD
TZOFFSETFROM:-0700
TZOFFSETTO:-0800
TZNAME:PST
DTSTART:20261101T090000
END:STANDARD
END:VTIMEZONE
BEGIN:VEVENT
DTSTART;TZID=America/Vancouver:20251007T130000
DTEND;TZID=America/Vancouver:20251007T130000
DTSTAMP:20260421T090809
CREATED:20250106T221605Z
LAST-MODIFIED:20250106T221605Z
UID:10001853-1759842000-1759842000@qathet.ca
SUMMARY:FINANCE COMMITTEE
DESCRIPTION:
URL:https://qathet.ca/event/finance-committee-63/
LOCATION:Virtual and In-person RD Boardroom\, 201 - 4675 Marine Ave\, Powell River\, BC\, V8A 2L2\, Canada
CATEGORIES:Finance Committee
END:VEVENT
BEGIN:VEVENT
DTSTART;TZID=America/Vancouver:20251007T160000
DTEND;TZID=America/Vancouver:20251007T160000
DTSTAMP:20260421T090809
CREATED:20250114T194426Z
LAST-MODIFIED:20250114T194426Z
UID:10001915-1759852800-1759852800@qathet.ca
SUMMARY:REGIONAL BOARD
DESCRIPTION:
URL:https://qathet.ca/event/regional-board-92/
LOCATION:Virtual and In-person RD Boardroom\, 201 - 4675 Marine Ave\, Powell River\, BC\, V8A 2L2\, Canada
CATEGORIES:Regional Board
END:VEVENT
BEGIN:VEVENT
DTSTART;TZID=America/Vancouver:20251021T140000
DTEND;TZID=America/Vancouver:20251021T150000
DTSTAMP:20260421T090809
CREATED:20250107T001450Z
LAST-MODIFIED:20251014T202858Z
UID:10001876-1761055200-1761058800@qathet.ca
SUMMARY:PLANNING COMMITTEE
DESCRIPTION:
URL:https://qathet.ca/event/planning-committee-66/
LOCATION:Virtual and In-person RD Boardroom\, 201 - 4675 Marine Ave\, Powell River\, BC\, V8A 2L2\, Canada
CATEGORIES:Planning Committee
END:VEVENT
BEGIN:VEVENT
DTSTART;TZID=America/Vancouver:20251021T150000
DTEND;TZID=America/Vancouver:20251021T150000
DTSTAMP:20260421T090809
CREATED:20250114T180225Z
LAST-MODIFIED:20250114T180225Z
UID:10001902-1761058800-1761058800@qathet.ca
SUMMARY:REGIONAL HOSPITAL DISTRICT BOARD
DESCRIPTION:
URL:https://qathet.ca/event/regional-hospital-district-board-29/
LOCATION:Virtual and In-person RD Boardroom\, 201 - 4675 Marine Ave\, Powell River\, BC\, V8A 2L2\, Canada
CATEGORIES:Regional Hospital District Board
END:VEVENT
BEGIN:VEVENT
DTSTART;TZID=America/Vancouver:20251022T130000
DTEND;TZID=America/Vancouver:20251022T130000
DTSTAMP:20260421T090809
CREATED:20250110T170659Z
LAST-MODIFIED:20250110T170659Z
UID:10001891-1761138000-1761138000@qathet.ca
SUMMARY:COMMITTEE OF THE WHOLE
DESCRIPTION:
URL:https://qathet.ca/event/committee-of-the-whole-68/
LOCATION:Virtual and In-person RD Boardroom\, 201 - 4675 Marine Ave\, Powell River\, BC\, V8A 2L2\, Canada
CATEGORIES:Committee of the Whole
END:VEVENT
BEGIN:VEVENT
DTSTART;TZID=America/Vancouver:20251022T160000
DTEND;TZID=America/Vancouver:20251022T160000
DTSTAMP:20260421T090809
CREATED:20250114T194532Z
LAST-MODIFIED:20250114T194532Z
UID:10001916-1761148800-1761148800@qathet.ca
SUMMARY:REGIONAL BOARD
DESCRIPTION:
URL:https://qathet.ca/event/regional-board-93/
LOCATION:Virtual and In-person RD Boardroom\, 201 - 4675 Marine Ave\, Powell River\, BC\, V8A 2L2\, Canada
CATEGORIES:Regional Board
END:VEVENT
END:VCALENDAR