BEGIN:VCALENDAR
VERSION:2.0
PRODID:-//qathet Regional District - ECPv6.15.18//NONSGML v1.0//EN
CALSCALE:GREGORIAN
METHOD:PUBLISH
X-WR-CALNAME:qathet Regional District
X-ORIGINAL-URL:https://qathet.ca
X-WR-CALDESC:Events for qathet Regional District
REFRESH-INTERVAL;VALUE=DURATION:PT1H
X-Robots-Tag:noindex
X-PUBLISHED-TTL:PT1H
BEGIN:VTIMEZONE
TZID:America/Vancouver
BEGIN:DAYLIGHT
TZOFFSETFROM:-0800
TZOFFSETTO:-0700
TZNAME:PDT
DTSTART:20210314T100000
END:DAYLIGHT
BEGIN:STANDARD
TZOFFSETFROM:-0700
TZOFFSETTO:-0800
TZNAME:PST
DTSTART:20211107T090000
END:STANDARD
BEGIN:DAYLIGHT
TZOFFSETFROM:-0800
TZOFFSETTO:-0700
TZNAME:PDT
DTSTART:20220313T100000
END:DAYLIGHT
BEGIN:STANDARD
TZOFFSETFROM:-0700
TZOFFSETTO:-0800
TZNAME:PST
DTSTART:20221106T090000
END:STANDARD
BEGIN:DAYLIGHT
TZOFFSETFROM:-0800
TZOFFSETTO:-0700
TZNAME:PDT
DTSTART:20230312T100000
END:DAYLIGHT
BEGIN:STANDARD
TZOFFSETFROM:-0700
TZOFFSETTO:-0800
TZNAME:PST
DTSTART:20231105T090000
END:STANDARD
END:VTIMEZONE
BEGIN:VEVENT
DTSTART;TZID=America/Vancouver:20220816T160000
DTEND;TZID=America/Vancouver:20220816T160000
DTSTAMP:20260421T025437
CREATED:20211222T215959Z
LAST-MODIFIED:20211222T215959Z
UID:10000578-1660665600-1660665600@qathet.ca
SUMMARY:PLANNING COMMITTEE
DESCRIPTION:
URL:https://qathet.ca/event/planning-committee-31/
LOCATION:Virtual and In-person RD Boardroom\, 201 - 4675 Marine Ave\, Powell River\, BC\, V8A 2L2\, Canada
END:VEVENT
BEGIN:VEVENT
DTSTART;TZID=America/Vancouver:20220817T160000
DTEND;TZID=America/Vancouver:20220817T160000
DTSTAMP:20260421T025437
CREATED:20211222T230512Z
LAST-MODIFIED:20211222T230512Z
UID:10000525-1660752000-1660752000@qathet.ca
SUMMARY:FINANCE COMMITTEE
DESCRIPTION:
URL:https://qathet.ca/event/finance-committee-27/
LOCATION:Virtual and In-person RD Boardroom\, 201 - 4675 Marine Ave\, Powell River\, BC\, V8A 2L2\, Canada
CATEGORIES:Finance Committee
END:VEVENT
BEGIN:VEVENT
DTSTART;TZID=America/Vancouver:20220818T160000
DTEND;TZID=America/Vancouver:20220818T160000
DTSTAMP:20260421T025437
CREATED:20211222T222159Z
LAST-MODIFIED:20211222T222159Z
UID:10000591-1660838400-1660838400@qathet.ca
SUMMARY:COMMITTEE OF THE WHOLE
DESCRIPTION:
URL:https://qathet.ca/event/committee-of-the-whole-31/
LOCATION:Virtual and In-person RD Boardroom\, 201 - 4675 Marine Ave\, Powell River\, BC\, V8A 2L2\, Canada
CATEGORIES:Committee of the Whole
END:VEVENT
BEGIN:VEVENT
DTSTART;TZID=America/Vancouver:20220820T100000
DTEND;TZID=America/Vancouver:20220820T100000
DTSTAMP:20260421T025437
CREATED:20220808T223135Z
LAST-MODIFIED:20220808T223853Z
UID:10000642-1660989600-1660989600@qathet.ca
SUMMARY:Lund Waterworks District's Public Open House
DESCRIPTION:
URL:https://qathet.ca/event/lund-waterworks-districts-public-open-house/
LOCATION:Lund Community Centre\, 9654 Larson Road\, Lund\, BC
END:VEVENT
BEGIN:VEVENT
DTSTART;TZID=America/Vancouver:20220825T183000
DTEND;TZID=America/Vancouver:20220825T183000
DTSTAMP:20260421T025437
CREATED:20211222T232643Z
LAST-MODIFIED:20211222T232643Z
UID:10000610-1661452200-1661452200@qathet.ca
SUMMARY:REGIONAL BOARD
DESCRIPTION:
URL:https://qathet.ca/event/regional-board-31/
LOCATION:Virtual and In-person RD Boardroom\, 201 - 4675 Marine Ave\, Powell River\, BC\, V8A 2L2\, Canada
CATEGORIES:Regional Board
END:VEVENT
END:VCALENDAR