BEGIN:VCALENDAR
VERSION:2.0
PRODID:-//qathet Regional District - ECPv6.15.18//NONSGML v1.0//EN
CALSCALE:GREGORIAN
METHOD:PUBLISH
X-ORIGINAL-URL:https://qathet.ca
X-WR-CALDESC:Events for qathet Regional District
REFRESH-INTERVAL;VALUE=DURATION:PT1H
X-Robots-Tag:noindex
X-PUBLISHED-TTL:PT1H
BEGIN:VTIMEZONE
TZID:America/Vancouver
BEGIN:DAYLIGHT
TZOFFSETFROM:-0800
TZOFFSETTO:-0700
TZNAME:PDT
DTSTART:20210314T100000
END:DAYLIGHT
BEGIN:STANDARD
TZOFFSETFROM:-0700
TZOFFSETTO:-0800
TZNAME:PST
DTSTART:20211107T090000
END:STANDARD
BEGIN:DAYLIGHT
TZOFFSETFROM:-0800
TZOFFSETTO:-0700
TZNAME:PDT
DTSTART:20220313T100000
END:DAYLIGHT
BEGIN:STANDARD
TZOFFSETFROM:-0700
TZOFFSETTO:-0800
TZNAME:PST
DTSTART:20221106T090000
END:STANDARD
BEGIN:DAYLIGHT
TZOFFSETFROM:-0800
TZOFFSETTO:-0700
TZNAME:PDT
DTSTART:20230312T100000
END:DAYLIGHT
BEGIN:STANDARD
TZOFFSETFROM:-0700
TZOFFSETTO:-0800
TZNAME:PST
DTSTART:20231105T090000
END:STANDARD
END:VTIMEZONE
BEGIN:VEVENT
DTSTART;TZID=America/Vancouver:20220503T131500
DTEND;TZID=America/Vancouver:20220503T131500
DTSTAMP:20260421T013008
CREATED:20220423T204135Z
LAST-MODIFIED:20220423T204135Z
UID:10000627-1651583700-1651583700@qathet.ca
SUMMARY:qathet Regional Community Notification System Test
DESCRIPTION:All residents\, property owners and visitors of the qathet region are encouraged to register at qathet.ca to receive important emergency alerts by voice\, text\, and email. \n  \nNote: If you have registered for the system prior to April 2021\, please register again for this new system.
URL:https://qathet.ca/event/qathet-regional-community-notification-system-test/
LOCATION:BC
END:VEVENT
BEGIN:VEVENT
DTSTART;TZID=America/Vancouver:20220504T123000
DTEND;TZID=America/Vancouver:20220504T140000
DTSTAMP:20260421T013008
CREATED:20220423T210350Z
LAST-MODIFIED:20220423T210350Z
UID:10000628-1651667400-1651672800@qathet.ca
SUMMARY:Senior Fire Safety and Household Preparedness
DESCRIPTION:Join Trish Greenwood\, Powell River Fire Rescue Coordinator and Public Educator to learn about the simple steps you can take to help prepare yourselves and your homes in the event of an emergency.
URL:https://qathet.ca/event/senior-fire-safety-and-household-preparedness/
LOCATION:Gerry Grey Place\, #106-7075 Alberni Street\, Powell River\, British Columbia\, V8A 2C2\, Canada
END:VEVENT
BEGIN:VEVENT
DTSTART;TZID=America/Vancouver:20220507T110000
DTEND;TZID=America/Vancouver:20220507T150000
DTSTAMP:20260421T013008
CREATED:20220423T211834Z
LAST-MODIFIED:20220427T162836Z
UID:10000629-1651921200-1651935600@qathet.ca
SUMMARY:Malaspina Volunteer Fire Department Open House
DESCRIPTION:Join the Malaspina Volunteer Fire Department to learn more about the qathet regional fire services and fire extinguisher training. Come grab a free hot dog\, refreshments and meet the crew.
URL:https://qathet.ca/event/malaspina-volunteer-fire-department-open-house/
LOCATION:Malaspina Volunteer Fire Department #1\, 9999 Highway #101\, Powell River\, British Columbia\, V8A 4Z2\, Canada
END:VEVENT
BEGIN:VEVENT
DTSTART;TZID=America/Vancouver:20220508T110000
DTEND;TZID=America/Vancouver:20220508T150000
DTSTAMP:20260421T013008
CREATED:20220423T213138Z
LAST-MODIFIED:20220426T201833Z
UID:10000630-1652007600-1652022000@qathet.ca
SUMMARY:Northside Volunteer Fire Department Open House
DESCRIPTION:Come out to see the new training facility and learn about regional fire services. Come grab a free hot dog and refreshment! Fire extinguisher training offered onsite.
URL:https://qathet.ca/event/open-house-northside-volunteer-fire-department/
LOCATION:Northside VFD No. 2 Hall\, 9574 Roots Way\, Lund\, BC\, British Columbia\, V0N 2G0\, Canada
END:VEVENT
BEGIN:VEVENT
DTSTART;TZID=America/Vancouver:20220510T160000
DTEND;TZID=America/Vancouver:20220510T160000
DTSTAMP:20260421T013008
CREATED:20211222T215624Z
LAST-MODIFIED:20211222T215624Z
UID:10000575-1652198400-1652198400@qathet.ca
SUMMARY:PLANNING COMMITTEE
DESCRIPTION:
URL:https://qathet.ca/event/planning-committee-28/
LOCATION:Virtual and In-person RD Boardroom\, 201 - 4675 Marine Ave\, Powell River\, BC\, V8A 2L2\, Canada
END:VEVENT
BEGIN:VEVENT
DTSTART;TZID=America/Vancouver:20220511T160000
DTEND;TZID=America/Vancouver:20220511T160000
DTSTAMP:20260421T013008
CREATED:20211222T230030Z
LAST-MODIFIED:20211222T230030Z
UID:10000518-1652284800-1652284800@qathet.ca
SUMMARY:FINANCE COMMITTEE
DESCRIPTION:
URL:https://qathet.ca/event/finance-committee-23/
LOCATION:Virtual and In-person RD Boardroom\, 201 - 4675 Marine Ave\, Powell River\, BC\, V8A 2L2\, Canada
CATEGORIES:Finance Committee
END:VEVENT
BEGIN:VEVENT
DTSTART;TZID=America/Vancouver:20220512T160000
DTEND;TZID=America/Vancouver:20220512T160000
DTSTAMP:20260421T013008
CREATED:20211222T221730Z
LAST-MODIFIED:20211222T221730Z
UID:10000589-1652371200-1652371200@qathet.ca
SUMMARY:COMMITTEE OF THE WHOLE
DESCRIPTION:
URL:https://qathet.ca/event/committee-of-the-whole-28/
LOCATION:Virtual and In-person RD Boardroom\, 201 - 4675 Marine Ave\, Powell River\, BC\, V8A 2L2\, Canada
CATEGORIES:Committee of the Whole
END:VEVENT
BEGIN:VEVENT
DTSTART;TZID=America/Vancouver:20220514T110000
DTEND;TZID=America/Vancouver:20220514T130000
DTSTAMP:20260421T013008
CREATED:20220426T175247Z
LAST-MODIFIED:20220427T163436Z
UID:10000631-1652526000-1652533200@qathet.ca
SUMMARY:Broom Buster Event - Manson Extension
DESCRIPTION:
URL:https://qathet.ca/event/broom-buster-event/
LOCATION:Manson Extension\, Canada
END:VEVENT
BEGIN:VEVENT
DTSTART;TZID=America/Vancouver:20220515T120000
DTEND;TZID=America/Vancouver:20220515T153000
DTSTAMP:20260421T013008
CREATED:20220426T180212Z
LAST-MODIFIED:20220426T180212Z
UID:10000632-1652616000-1652628600@qathet.ca
SUMMARY:Texada Island - FireSmart Chipper Day @ Gillies Bay
DESCRIPTION:
URL:https://qathet.ca/event/texada-island-firesmart-chipper-day-gillies-bay/
LOCATION:Gillies Bay Fire Hall\, 5073 Gillies Bay Road\, Texada\, British Columbia\, V0N 1W0\, Canada
END:VEVENT
BEGIN:VEVENT
DTSTART;TZID=America/Vancouver:20220516T090000
DTEND;TZID=America/Vancouver:20220516T090000
DTSTAMP:20260421T013008
CREATED:20220426T182719Z
LAST-MODIFIED:20220511T181056Z
UID:10000634-1652691600-1652691600@qathet.ca
SUMMARY:Texada Airport Advisory Committee Meeting (TAAC)
DESCRIPTION:
URL:https://qathet.ca/event/texada-airport-advisory-committee-meeting-taac-3/
LOCATION:Texada Community Hall\, 4913 Gillies Bay Rd\, Gillies Bay\, BC\, Canada
END:VEVENT
BEGIN:VEVENT
DTSTART;TZID=America/Vancouver:20220518T160000
DTEND;TZID=America/Vancouver:20220518T160000
DTSTAMP:20260421T013008
CREATED:20211222T230135Z
LAST-MODIFIED:20211222T230135Z
UID:10000520-1652889600-1652889600@qathet.ca
SUMMARY:FINANCE COMMITTEE
DESCRIPTION:
URL:https://qathet.ca/event/finance-committee-24/
LOCATION:Virtual and In-person RD Boardroom\, 201 - 4675 Marine Ave\, Powell River\, BC\, V8A 2L2\, Canada
CATEGORIES:Finance Committee
END:VEVENT
BEGIN:VEVENT
DTSTART;TZID=America/Vancouver:20220519T100000
DTEND;TZID=America/Vancouver:20220519T100000
DTSTAMP:20260421T013008
CREATED:20220224T222419Z
LAST-MODIFIED:20220224T222419Z
UID:10000623-1652954400-1652954400@qathet.ca
SUMMARY:Savary Island Marine Advisory Committee (SIMAC)
DESCRIPTION:
URL:https://qathet.ca/event/savary-island-marine-advisory-committee-simac-4/
LOCATION:Virtual Meeting
END:VEVENT
BEGIN:VEVENT
DTSTART;TZID=America/Vancouver:20220520T170000
DTEND;TZID=America/Vancouver:20220520T180000
DTSTAMP:20260421T013008
CREATED:20220426T180510Z
LAST-MODIFIED:20220426T180510Z
UID:10000633-1653066000-1653069600@qathet.ca
SUMMARY:Coastal Wildfires - Hazards and Preparation
DESCRIPTION:Join Fire Smart Coordinator Marc Albert and Evacuation Planning Assistant Jesse MacDonald for a look at the factors that influenced the severity of a recent major coastal wildfire and what can be done to reduce our own risk at home. To Register email mmerlino@prpl.ca
URL:https://qathet.ca/event/coastal-wildfires-hazards-and-preparation/
LOCATION:Powell River Public Library Meeting Room\, 100 - 6975 Alberni Street\, Powell River\, British Columbia\, V8A 2B8\, Canada
END:VEVENT
BEGIN:VEVENT
DTSTART;TZID=America/Vancouver:20220526T183000
DTEND;TZID=America/Vancouver:20220526T183000
DTSTAMP:20260421T013008
CREATED:20211222T232359Z
LAST-MODIFIED:20211222T232359Z
UID:10000607-1653589800-1653589800@qathet.ca
SUMMARY:REGIONAL BOARD
DESCRIPTION:
URL:https://qathet.ca/event/regional-board-28/
LOCATION:Virtual and In-person RD Boardroom\, 201 - 4675 Marine Ave\, Powell River\, BC\, V8A 2L2\, Canada
CATEGORIES:Regional Board
END:VEVENT
END:VCALENDAR