BEGIN:VCALENDAR
VERSION:2.0
PRODID:-//qathet Regional District - ECPv6.15.18//NONSGML v1.0//EN
CALSCALE:GREGORIAN
METHOD:PUBLISH
X-WR-CALNAME:qathet Regional District
X-ORIGINAL-URL:https://qathet.ca
X-WR-CALDESC:Events for qathet Regional District
REFRESH-INTERVAL;VALUE=DURATION:PT1H
X-Robots-Tag:noindex
X-PUBLISHED-TTL:PT1H
BEGIN:VTIMEZONE
TZID:America/Vancouver
BEGIN:DAYLIGHT
TZOFFSETFROM:-0800
TZOFFSETTO:-0700
TZNAME:PDT
DTSTART:20190310T100000
END:DAYLIGHT
BEGIN:STANDARD
TZOFFSETFROM:-0700
TZOFFSETTO:-0800
TZNAME:PST
DTSTART:20191103T090000
END:STANDARD
BEGIN:DAYLIGHT
TZOFFSETFROM:-0800
TZOFFSETTO:-0700
TZNAME:PDT
DTSTART:20200308T100000
END:DAYLIGHT
BEGIN:STANDARD
TZOFFSETFROM:-0700
TZOFFSETTO:-0800
TZNAME:PST
DTSTART:20201101T090000
END:STANDARD
BEGIN:DAYLIGHT
TZOFFSETFROM:-0800
TZOFFSETTO:-0700
TZNAME:PDT
DTSTART:20210314T100000
END:DAYLIGHT
BEGIN:STANDARD
TZOFFSETFROM:-0700
TZOFFSETTO:-0800
TZNAME:PST
DTSTART:20211107T090000
END:STANDARD
END:VTIMEZONE
BEGIN:VEVENT
DTSTART;TZID=America/Vancouver:20200903T120000
DTEND;TZID=America/Vancouver:20200903T130000
DTSTAMP:20260421T175418
CREATED:20200902T001710Z
LAST-MODIFIED:20200902T001822Z
UID:10000426-1599134400-1599138000@qathet.ca
SUMMARY:Vancouver Coastal Health: Back to School Q&A with Dr. Mark Lysyshyn
DESCRIPTION:As classes resume this fall\, we understand that many parents and caregivers will have questions and concerns about COVID-19 safety. \n  \nJoin Dr. Mark Lysyshyn\, Medical Health Officer\, on Facebook Live to ask your questions and get answers. \nWhen: Thursday September 3\, 2020\nTime: 12:00pm – 1:00pm PT\nWhere: On the Vancouver Coastal Health Facebook Page \n  \nWe’re taking questions in advance and during the Facebook Live. Send them to us in any of these ways:\n– Post them in the event\n– Send us a Facebook Message (please include #facebooklive so we know your question is for Dr. Lysyshyn)\n– DM us on Instagram (Vancouver Coastal Health) \nNot able to join live? The livestream video will be made available to view here on Facebook.
URL:https://qathet.ca/event/vancouver-coastal-health/
LOCATION:BC
ATTACH;FMTTYPE=image/jpeg:https://qathet.ca/wp-content/uploads/2020/04/VCH-sq.jpg
END:VEVENT
BEGIN:VEVENT
DTSTART;TZID=America/Vancouver:20200908T160000
DTEND;TZID=America/Vancouver:20200908T160000
DTSTAMP:20260421T175418
CREATED:20200108T220840Z
LAST-MODIFIED:20200108T232158Z
UID:10000370-1599580800-1599580800@qathet.ca
SUMMARY:Planning Committee
DESCRIPTION:
URL:https://qathet.ca/event/planning-committee-9/
LOCATION:qathet Regional District Boardroom\, #201 - 4675 Marine Avenue\, Powell River\, British Columbia\, V8A 2L2\, Canada
CATEGORIES:Planning Committee
ORGANIZER;CN="Michelle Jones%2C Manager of Administrative Services":MAILTO:administration@qathet.ca
END:VEVENT
BEGIN:VEVENT
DTSTART;TZID=America/Vancouver:20200909T170000
DTEND;TZID=America/Vancouver:20200909T170000
DTSTAMP:20260421T175418
CREATED:20200824T232210Z
LAST-MODIFIED:20200908T215909Z
UID:10000424-1599670800-1599670800@qathet.ca
SUMMARY:Texada Island Recreation Commission Meeting
DESCRIPTION:
URL:https://qathet.ca/event/texada-island-recreation-commission-meeting/
LOCATION:Van Anda Ball Field
END:VEVENT
BEGIN:VEVENT
DTSTART;TZID=America/Vancouver:20200910T154500
DTEND;TZID=America/Vancouver:20200910T154500
DTSTAMP:20260421T175418
CREATED:20200108T230918Z
LAST-MODIFIED:20200108T232203Z
UID:10000335-1599752700-1599752700@qathet.ca
SUMMARY:Regional Hospital District Committee of the Whole
DESCRIPTION:
URL:https://qathet.ca/event/regional-hospital-district-committee-of-the-whole-3/
LOCATION:qathet Regional District Boardroom\, #201 - 4675 Marine Avenue\, Powell River\, British Columbia\, V8A 2L2\, Canada
CATEGORIES:Regional Hospital District Committee of the Whole
ORGANIZER;CN="Michelle Jones%2C Manager of Administrative Services":MAILTO:administration@qathet.ca
END:VEVENT
BEGIN:VEVENT
DTSTART;TZID=America/Vancouver:20200910T160000
DTEND;TZID=America/Vancouver:20200910T160000
DTSTAMP:20260421T175418
CREATED:20200108T222737Z
LAST-MODIFIED:20200108T232214Z
UID:10000387-1599753600-1599753600@qathet.ca
SUMMARY:Committee of the Whole
DESCRIPTION:
URL:https://qathet.ca/event/committee-of-the-whole-9/
LOCATION:qathet Regional District Boardroom\, #201 - 4675 Marine Avenue\, Powell River\, British Columbia\, V8A 2L2\, Canada
CATEGORIES:Committee of the Whole
ORGANIZER;CN="Michelle Jones%2C Manager of Administrative Services":MAILTO:administration@qathet.ca
END:VEVENT
BEGIN:VEVENT
DTSTART;VALUE=DATE:20200921
DTEND;VALUE=DATE:20200926
DTSTAMP:20260421T175418
CREATED:20200114T200124Z
LAST-MODIFIED:20200114T200124Z
UID:10000405-1600646400-1601078399@qathet.ca
SUMMARY:Union of BC Municipalities Convention
DESCRIPTION:
URL:https://qathet.ca/event/union-of-bc-municipalities-convention/
LOCATION:Victoria\, BC\, Victoria\, BC\, Canada
END:VEVENT
BEGIN:VEVENT
DTSTART;TZID=America/Vancouver:20200923T150000
DTEND;TZID=America/Vancouver:20200923T150000
DTSTAMP:20260421T175418
CREATED:20200818T203015Z
LAST-MODIFIED:20200818T203015Z
UID:10000423-1600873200-1600873200@qathet.ca
SUMMARY:Solid Waste Management Plan Advisory Committee
DESCRIPTION:
URL:https://qathet.ca/event/solid-waste-management-plan-advisory-committee/
LOCATION:Resource Recovery Centre\, 4924 Marine Avenue\, Powell River\, British Columbia\, V8A 0W2\, Canada
END:VEVENT
BEGIN:VEVENT
DTSTART;TZID=America/Vancouver:20200923T163000
DTEND;TZID=America/Vancouver:20200923T173000
DTSTAMP:20260421T175418
CREATED:20200918T230104Z
LAST-MODIFIED:20200918T230104Z
UID:10000427-1600878600-1600882200@qathet.ca
SUMMARY:Back to School COVID-19 Virtual Town Hall
DESCRIPTION:In collaboration with Vancouver Coastal Health (Dr. Mark Lysyshyn) and the Tla’amin Nation (Hegus Clint Williams)\, the School District will be hosting a Back to School COVID-19 Virtual Town Hall on September 23\, 2020 from 4:00 pm to 5:30 pm. The purpose of the Town Hall is to provide direct information from the Public Health Officer with respect to new developments in Powell River\, bring forth new information\, outline changes to health and safety guidelines\, to answer questions\, and to bring clarity to the issues. \nSubmit questions by Tuesday\, September 22nd at noon by emailing info@sd47.bc.ca. There will be some time at the end of the presentation to ask live questions and get clarification. I have included links to important information with the latest updates.
URL:https://qathet.ca/event/back-to-school-covid-19-virtual-town-hall/
LOCATION:BC
ORGANIZER;CN="Michelle Jones%2C Manager of Administrative Services":MAILTO:administration@qathet.ca
END:VEVENT
BEGIN:VEVENT
DTSTART;TZID=America/Vancouver:20200928T160000
DTEND;TZID=America/Vancouver:20200928T160000
DTSTAMP:20260421T175418
CREATED:20200818T201258Z
LAST-MODIFIED:20200818T201258Z
UID:10000420-1601308800-1601308800@qathet.ca
SUMMARY:Regional Public Transportation Service Exploration Working Group
DESCRIPTION:
URL:https://qathet.ca/event/regional-public-transportation-service-exploration-working-group-7/
LOCATION:qathet Regional District Boardroom\, #201 - 4675 Marine Avenue\, Powell River\, British Columbia\, V8A 2L2\, Canada
END:VEVENT
BEGIN:VEVENT
DTSTART;TZID=America/Vancouver:20200930T181500
DTEND;TZID=America/Vancouver:20200930T181500
DTSTAMP:20260421T175418
CREATED:20200108T232655Z
LAST-MODIFIED:20200108T232907Z
UID:10000339-1601489700-1601489700@qathet.ca
SUMMARY:Regional Hospital District Board
DESCRIPTION:
URL:https://qathet.ca/event/regional-hospital-district-board-3/
LOCATION:qathet Regional District Boardroom\, #201 - 4675 Marine Avenue\, Powell River\, British Columbia\, V8A 2L2\, Canada
CATEGORIES:Regional Hospital District Board
ORGANIZER;CN="Michelle Jones%2C Manager of Administrative Services":MAILTO:administration@qathet.ca
END:VEVENT
BEGIN:VEVENT
DTSTART;TZID=America/Vancouver:20200930T183000
DTEND;TZID=America/Vancouver:20200930T183000
DTSTAMP:20260421T175418
CREATED:20200108T230133Z
LAST-MODIFIED:20200108T232224Z
UID:10000399-1601490600-1601490600@qathet.ca
SUMMARY:Regional Board
DESCRIPTION:
URL:https://qathet.ca/event/regional-board-9/
LOCATION:qathet Regional District Boardroom\, #201 - 4675 Marine Avenue\, Powell River\, British Columbia\, V8A 2L2\, Canada
CATEGORIES:Regional Board
ORGANIZER;CN="Michelle Jones%2C Manager of Administrative Services":MAILTO:administration@qathet.ca
END:VEVENT
END:VCALENDAR