BEGIN:VCALENDAR
VERSION:2.0
PRODID:-//qathet Regional District - ECPv6.15.18//NONSGML v1.0//EN
CALSCALE:GREGORIAN
METHOD:PUBLISH
X-WR-CALNAME:qathet Regional District
X-ORIGINAL-URL:https://qathet.ca
X-WR-CALDESC:Events for qathet Regional District
REFRESH-INTERVAL;VALUE=DURATION:PT1H
X-Robots-Tag:noindex
X-PUBLISHED-TTL:PT1H
BEGIN:VTIMEZONE
TZID:America/Vancouver
BEGIN:DAYLIGHT
TZOFFSETFROM:-0800
TZOFFSETTO:-0700
TZNAME:PDT
DTSTART:20190310T100000
END:DAYLIGHT
BEGIN:STANDARD
TZOFFSETFROM:-0700
TZOFFSETTO:-0800
TZNAME:PST
DTSTART:20191103T090000
END:STANDARD
BEGIN:DAYLIGHT
TZOFFSETFROM:-0800
TZOFFSETTO:-0700
TZNAME:PDT
DTSTART:20200308T100000
END:DAYLIGHT
BEGIN:STANDARD
TZOFFSETFROM:-0700
TZOFFSETTO:-0800
TZNAME:PST
DTSTART:20201101T090000
END:STANDARD
BEGIN:DAYLIGHT
TZOFFSETFROM:-0800
TZOFFSETTO:-0700
TZNAME:PDT
DTSTART:20210314T100000
END:DAYLIGHT
BEGIN:STANDARD
TZOFFSETFROM:-0700
TZOFFSETTO:-0800
TZNAME:PST
DTSTART:20211107T090000
END:STANDARD
END:VTIMEZONE
BEGIN:VEVENT
DTSTART;TZID=America/Vancouver:20200714T160000
DTEND;TZID=America/Vancouver:20200714T160000
DTSTAMP:20260419T024015
CREATED:20200108T220714Z
LAST-MODIFIED:20200108T232026Z
UID:10000369-1594742400-1594742400@qathet.ca
SUMMARY:Planning Committee
DESCRIPTION:
URL:https://qathet.ca/event/planning-committee-7/
LOCATION:qathet Regional District Boardroom\, #201 - 4675 Marine Avenue\, Powell River\, British Columbia\, V8A 2L2\, Canada
CATEGORIES:Planning Committee
ORGANIZER;CN="Michelle Jones%2C Manager of Administrative Services":MAILTO:administration@qathet.ca
END:VEVENT
BEGIN:VEVENT
DTSTART;TZID=America/Vancouver:20200715T160000
DTEND;TZID=America/Vancouver:20200715T200000
DTSTAMP:20260419T024015
CREATED:20200710T205947Z
LAST-MODIFIED:20200710T205947Z
UID:10000417-1594828800-1594843200@qathet.ca
SUMMARY:Finance Committee
DESCRIPTION:
URL:https://qathet.ca/event/finance-committee-7/
LOCATION:qathet Regional District Boardroom\, #201 - 4675 Marine Avenue\, Powell River\, British Columbia\, V8A 2L2\, Canada
ORGANIZER;CN="Michelle Jones%2C Manager of Administrative Services":MAILTO:administration@qathet.ca
END:VEVENT
BEGIN:VEVENT
DTSTART;TZID=America/Vancouver:20200716T160000
DTEND;TZID=America/Vancouver:20200716T160000
DTSTAMP:20260419T024015
CREATED:20200108T222420Z
LAST-MODIFIED:20200108T232033Z
UID:10000385-1594915200-1594915200@qathet.ca
SUMMARY:Committee of the Whole
DESCRIPTION:
URL:https://qathet.ca/event/committee-of-the-whole-7/
LOCATION:qathet Regional District Boardroom\, #201 - 4675 Marine Avenue\, Powell River\, British Columbia\, V8A 2L2\, Canada
CATEGORIES:Committee of the Whole
ORGANIZER;CN="Michelle Jones%2C Manager of Administrative Services":MAILTO:administration@qathet.ca
END:VEVENT
BEGIN:VEVENT
DTSTART;TZID=America/Vancouver:20200727T160000
DTEND;TZID=America/Vancouver:20200727T160000
DTSTAMP:20260419T024015
CREATED:20200212T000954Z
LAST-MODIFIED:20200721T163055Z
UID:10000411-1595865600-1595865600@qathet.ca
SUMMARY:CANCELLED: Regional Public Transportation Service Exploration Working Group
DESCRIPTION:
URL:https://qathet.ca/event/regional-public-transportation-service-exploration-working-group-6/
LOCATION:qathet Regional District Boardroom\, #201 - 4675 Marine Avenue\, Powell River\, British Columbia\, V8A 2L2\, Canada
END:VEVENT
BEGIN:VEVENT
DTSTART;TZID=America/Vancouver:20200730T183000
DTEND;TZID=America/Vancouver:20200730T183000
DTSTAMP:20260419T024015
CREATED:20200108T225951Z
LAST-MODIFIED:20200108T232120Z
UID:10000397-1596133800-1596133800@qathet.ca
SUMMARY:Regional Board
DESCRIPTION:
URL:https://qathet.ca/event/regional-board-7/
LOCATION:qathet Regional District Boardroom\, #201 - 4675 Marine Avenue\, Powell River\, British Columbia\, V8A 2L2\, Canada
CATEGORIES:Regional Board
ORGANIZER;CN="Michelle Jones%2C Manager of Administrative Services":MAILTO:administration@qathet.ca
END:VEVENT
END:VCALENDAR