BEGIN:VCALENDAR
VERSION:2.0
PRODID:-//qathet Regional District - ECPv6.15.18//NONSGML v1.0//EN
CALSCALE:GREGORIAN
METHOD:PUBLISH
X-ORIGINAL-URL:https://qathet.ca
X-WR-CALDESC:Events for qathet Regional District
REFRESH-INTERVAL;VALUE=DURATION:PT1H
X-Robots-Tag:noindex
X-PUBLISHED-TTL:PT1H
BEGIN:VTIMEZONE
TZID:America/Vancouver
BEGIN:DAYLIGHT
TZOFFSETFROM:-0800
TZOFFSETTO:-0700
TZNAME:PDT
DTSTART:20190310T100000
END:DAYLIGHT
BEGIN:STANDARD
TZOFFSETFROM:-0700
TZOFFSETTO:-0800
TZNAME:PST
DTSTART:20191103T090000
END:STANDARD
BEGIN:DAYLIGHT
TZOFFSETFROM:-0800
TZOFFSETTO:-0700
TZNAME:PDT
DTSTART:20200308T100000
END:DAYLIGHT
BEGIN:STANDARD
TZOFFSETFROM:-0700
TZOFFSETTO:-0800
TZNAME:PST
DTSTART:20201101T090000
END:STANDARD
BEGIN:DAYLIGHT
TZOFFSETFROM:-0800
TZOFFSETTO:-0700
TZNAME:PDT
DTSTART:20210314T100000
END:DAYLIGHT
BEGIN:STANDARD
TZOFFSETFROM:-0700
TZOFFSETTO:-0800
TZNAME:PST
DTSTART:20211107T090000
END:STANDARD
END:VTIMEZONE
BEGIN:VEVENT
DTSTART;VALUE=DATE:20200604
DTEND;VALUE=DATE:20200608
DTSTAMP:20260422T012457
CREATED:20200114T195244Z
LAST-MODIFIED:20200402T161308Z
UID:10000404-1591228800-1591574399@qathet.ca
SUMMARY:*CANCELLED* FCM - Federation of Canadian Municipalities
DESCRIPTION:
URL:https://qathet.ca/event/fcm-federation-of-canadian-municipalities/
LOCATION:Toronto\, ON\, Toronto\, BC\, Canada
END:VEVENT
BEGIN:VEVENT
DTSTART;TZID=America/Vancouver:20200609T160000
DTEND;TZID=America/Vancouver:20200609T160000
DTSTAMP:20260422T012457
CREATED:20200108T220628Z
LAST-MODIFIED:20200108T231957Z
UID:10000368-1591718400-1591718400@qathet.ca
SUMMARY:Planning Committee
DESCRIPTION:
URL:https://qathet.ca/event/planning-committee-6/
LOCATION:qathet Regional District Boardroom\, #201 - 4675 Marine Avenue\, Powell River\, British Columbia\, V8A 2L2\, Canada
CATEGORIES:Planning Committee
ORGANIZER;CN="Michelle Jones%2C Manager of Administrative Services":MAILTO:administration@qathet.ca
END:VEVENT
BEGIN:VEVENT
DTSTART;TZID=America/Vancouver:20200610T170000
DTEND;TZID=America/Vancouver:20200610T170000
DTSTAMP:20260422T012457
CREATED:20200525T215526Z
LAST-MODIFIED:20200525T215526Z
UID:10000415-1591808400-1591808400@qathet.ca
SUMMARY:Texada Island Recreation Commission
DESCRIPTION:
URL:https://qathet.ca/event/texada-island-recreation-commission/
LOCATION:Shelter Point Park Group Site\, 4349 Shelter Point Rd\, Gillies Bay\, BC\, V0N 1W0\, Canada
END:VEVENT
BEGIN:VEVENT
DTSTART;TZID=America/Vancouver:20200611T160000
DTEND;TZID=America/Vancouver:20200611T160000
DTSTAMP:20260422T012457
CREATED:20200108T222343Z
LAST-MODIFIED:20200108T232004Z
UID:10000384-1591891200-1591891200@qathet.ca
SUMMARY:Committee of the Whole
DESCRIPTION:
URL:https://qathet.ca/event/committee-of-the-whole-6/
LOCATION:qathet Regional District Boardroom\, #201 - 4675 Marine Avenue\, Powell River\, British Columbia\, V8A 2L2\, Canada
CATEGORIES:Committee of the Whole
ORGANIZER;CN="Michelle Jones%2C Manager of Administrative Services":MAILTO:administration@qathet.ca
END:VEVENT
BEGIN:VEVENT
DTSTART;TZID=America/Vancouver:20200617T130000
DTEND;TZID=America/Vancouver:20200617T143000
DTSTAMP:20260422T012457
CREATED:20200609T211025Z
LAST-MODIFIED:20200609T211222Z
UID:10000416-1592398800-1592404200@qathet.ca
SUMMARY:VCH Q&A: Reopening Physical Sites & In-Person Services - Non-Profits during COVID-19
DESCRIPTION:
URL:https://qathet.ca/event/vch-qa-reopening-physical-sites-in-person-services-non-profits-during-covid-19/
LOCATION:BC
END:VEVENT
BEGIN:VEVENT
DTSTART;TZID=America/Vancouver:20200617T160000
DTEND;TZID=America/Vancouver:20200617T160000
DTSTAMP:20260422T012457
CREATED:20200108T221536Z
LAST-MODIFIED:20200108T232011Z
UID:10000376-1592409600-1592409600@qathet.ca
SUMMARY:Finance Committee
DESCRIPTION:
URL:https://qathet.ca/event/finance-committee-4/
LOCATION:qathet Regional District Boardroom\, #201 - 4675 Marine Avenue\, Powell River\, British Columbia\, V8A 2L2\, Canada
CATEGORIES:Finance Committee
ORGANIZER;CN="Michelle Jones%2C Manager of Administrative Services":MAILTO:administration@qathet.ca
END:VEVENT
BEGIN:VEVENT
DTSTART;TZID=America/Vancouver:20200622T170000
DTEND;TZID=America/Vancouver:20200622T170000
DTSTAMP:20260422T012457
CREATED:20200225T185952Z
LAST-MODIFIED:20200427T162120Z
UID:10000413-1592845200-1592845200@qathet.ca
SUMMARY:*CANCELLED* Texada Airport Advisory Committee
DESCRIPTION:
URL:https://qathet.ca/event/texada-airport-advisory-committee-2/
LOCATION:Texada Community Hall\, 4913 Gillies Bay Rd\, Gillies Bay\, BC\, Canada
CATEGORIES:Texada Airport Advisory Committee
END:VEVENT
BEGIN:VEVENT
DTSTART;TZID=America/Vancouver:20200625T183000
DTEND;TZID=America/Vancouver:20200625T183000
DTSTAMP:20260422T012457
CREATED:20200108T225609Z
LAST-MODIFIED:20200108T232019Z
UID:10000396-1593109800-1593109800@qathet.ca
SUMMARY:Regional Board
DESCRIPTION:
URL:https://qathet.ca/event/regional-board-6/
LOCATION:qathet Regional District Boardroom\, #201 - 4675 Marine Avenue\, Powell River\, British Columbia\, V8A 2L2\, Canada
CATEGORIES:Regional Board
ORGANIZER;CN="Michelle Jones%2C Manager of Administrative Services":MAILTO:administration@qathet.ca
END:VEVENT
BEGIN:VEVENT
DTSTART;TZID=America/Vancouver:20200629T160000
DTEND;TZID=America/Vancouver:20200629T160000
DTSTAMP:20260422T012457
CREATED:20200212T000837Z
LAST-MODIFIED:20200212T000837Z
UID:10000410-1593446400-1593446400@qathet.ca
SUMMARY:Regional Public Transportation Service Exploration Working Group
DESCRIPTION:
URL:https://qathet.ca/event/regional-public-transportation-service-exploration-working-group-5/
LOCATION:qathet Regional District Boardroom\, #201 - 4675 Marine Avenue\, Powell River\, British Columbia\, V8A 2L2\, Canada
END:VEVENT
END:VCALENDAR