BEGIN:VCALENDAR
VERSION:2.0
PRODID:-//qathet Regional District - ECPv6.15.18//NONSGML v1.0//EN
CALSCALE:GREGORIAN
METHOD:PUBLISH
X-ORIGINAL-URL:https://qathet.ca
X-WR-CALDESC:Events for qathet Regional District
REFRESH-INTERVAL;VALUE=DURATION:PT1H
X-Robots-Tag:noindex
X-PUBLISHED-TTL:PT1H
BEGIN:VTIMEZONE
TZID:America/Vancouver
BEGIN:DAYLIGHT
TZOFFSETFROM:-0800
TZOFFSETTO:-0700
TZNAME:PDT
DTSTART:20190310T100000
END:DAYLIGHT
BEGIN:STANDARD
TZOFFSETFROM:-0700
TZOFFSETTO:-0800
TZNAME:PST
DTSTART:20191103T090000
END:STANDARD
BEGIN:DAYLIGHT
TZOFFSETFROM:-0800
TZOFFSETTO:-0700
TZNAME:PDT
DTSTART:20200308T100000
END:DAYLIGHT
BEGIN:STANDARD
TZOFFSETFROM:-0700
TZOFFSETTO:-0800
TZNAME:PST
DTSTART:20201101T090000
END:STANDARD
BEGIN:DAYLIGHT
TZOFFSETFROM:-0800
TZOFFSETTO:-0700
TZNAME:PDT
DTSTART:20210314T100000
END:DAYLIGHT
BEGIN:STANDARD
TZOFFSETFROM:-0700
TZOFFSETTO:-0800
TZNAME:PST
DTSTART:20211107T090000
END:STANDARD
END:VTIMEZONE
BEGIN:VEVENT
DTSTART;TZID=America/Vancouver:20200512T160000
DTEND;TZID=America/Vancouver:20200512T160000
DTSTAMP:20260422T012431
CREATED:20200108T220536Z
LAST-MODIFIED:20200108T231936Z
UID:10000367-1589299200-1589299200@qathet.ca
SUMMARY:Planning Committee
DESCRIPTION:
URL:https://qathet.ca/event/planning-committee-5/
LOCATION:qathet Regional District Boardroom\, #201 - 4675 Marine Avenue\, Powell River\, British Columbia\, V8A 2L2\, Canada
CATEGORIES:Planning Committee
ORGANIZER;CN="Michelle Jones%2C Manager of Administrative Services":MAILTO:administration@qathet.ca
END:VEVENT
BEGIN:VEVENT
DTSTART;TZID=America/Vancouver:20200514T153000
DTEND;TZID=America/Vancouver:20200514T153000
DTSTAMP:20260422T012431
CREATED:20200424T153557Z
LAST-MODIFIED:20200424T153722Z
UID:10000362-1589470200-1589470200@qathet.ca
SUMMARY:Special Regional Board
DESCRIPTION:
URL:https://qathet.ca/event/special-regional-board-meeting-2/
LOCATION:qathet Regional District Boardroom\, #201 - 4675 Marine Avenue\, Powell River\, British Columbia\, V8A 2L2\, Canada
CATEGORIES:Regional Board
END:VEVENT
BEGIN:VEVENT
DTSTART;TZID=America/Vancouver:20200514T160000
DTEND;TZID=America/Vancouver:20200514T160000
DTSTAMP:20260422T012431
CREATED:20200108T222300Z
LAST-MODIFIED:20200108T231943Z
UID:10000383-1589472000-1589472000@qathet.ca
SUMMARY:Committee of the Whole
DESCRIPTION:
URL:https://qathet.ca/event/committee-of-the-whole-5/
LOCATION:qathet Regional District Boardroom\, #201 - 4675 Marine Avenue\, Powell River\, British Columbia\, V8A 2L2\, Canada
CATEGORIES:Committee of the Whole
ORGANIZER;CN="Michelle Jones%2C Manager of Administrative Services":MAILTO:administration@qathet.ca
END:VEVENT
BEGIN:VEVENT
DTSTART;TZID=America/Vancouver:20200525T160000
DTEND;TZID=America/Vancouver:20200525T160000
DTSTAMP:20260422T012431
CREATED:20200212T000720Z
LAST-MODIFIED:20200525T161708Z
UID:10000409-1590422400-1590422400@qathet.ca
SUMMARY:*CANCELLED* Regional Public Transportation Service Exploration Working Group
DESCRIPTION:
URL:https://qathet.ca/event/regional-public-transportation-service-exploration-working-group-4/
LOCATION:BC
END:VEVENT
BEGIN:VEVENT
DTSTART;TZID=America/Vancouver:20200525T191500
DTEND;TZID=America/Vancouver:20200525T191500
DTSTAMP:20260422T012431
CREATED:20200525T200900Z
LAST-MODIFIED:20200525T202955Z
UID:10000414-1590434100-1590434100@qathet.ca
SUMMARY:VCH COVID-19 Q&A Virtual Townhall at 7:15 pm
DESCRIPTION:Vancouver Coastal Health is participating in a COVID-19 Q&A virtual townhall tonight at 7:15 pm. MLAs George Chow and Teresa Wat will host the hour-long discussion with VCH CEO Mary Ackenhusen and Chief Medical Health Officer Dr. Patricia Daly. This town hall is open to anyone and will be hosted on Facebook. \nWatch live on the Government of BC Facebook page on Monday\, May 25 at 7:15-8:15 PM PDT\, or on the Pronvince’s YouTube channel. \n  \nLearn more and submit your questions in advance at:www.gov.bc.ca/covid19townhalls \nYou may also submit questions via comment during the Facebook livestream. \n\n 
URL:https://qathet.ca/event/vch-covid-19-qa-virtual-townhall-at-715-pm/
LOCATION:BC
END:VEVENT
BEGIN:VEVENT
DTSTART;TZID=America/Vancouver:20200528T183000
DTEND;TZID=America/Vancouver:20200528T183000
DTSTAMP:20260422T012431
CREATED:20200108T225526Z
LAST-MODIFIED:20200108T231949Z
UID:10000395-1590690600-1590690600@qathet.ca
SUMMARY:Regional Board
DESCRIPTION:
URL:https://qathet.ca/event/regional-board-5/
LOCATION:qathet Regional District Boardroom\, #201 - 4675 Marine Avenue\, Powell River\, British Columbia\, V8A 2L2\, Canada
CATEGORIES:Regional Board
ORGANIZER;CN="Michelle Jones%2C Manager of Administrative Services":MAILTO:administration@qathet.ca
END:VEVENT
END:VCALENDAR