BEGIN:VCALENDAR
VERSION:2.0
PRODID:-//qathet Regional District - ECPv6.15.18//NONSGML v1.0//EN
CALSCALE:GREGORIAN
METHOD:PUBLISH
X-ORIGINAL-URL:https://qathet.ca
X-WR-CALDESC:Events for qathet Regional District
REFRESH-INTERVAL;VALUE=DURATION:PT1H
X-Robots-Tag:noindex
X-PUBLISHED-TTL:PT1H
BEGIN:VTIMEZONE
TZID:America/Vancouver
BEGIN:DAYLIGHT
TZOFFSETFROM:-0800
TZOFFSETTO:-0700
TZNAME:PDT
DTSTART:20190310T100000
END:DAYLIGHT
BEGIN:STANDARD
TZOFFSETFROM:-0700
TZOFFSETTO:-0800
TZNAME:PST
DTSTART:20191103T090000
END:STANDARD
BEGIN:DAYLIGHT
TZOFFSETFROM:-0800
TZOFFSETTO:-0700
TZNAME:PDT
DTSTART:20200308T100000
END:DAYLIGHT
BEGIN:STANDARD
TZOFFSETFROM:-0700
TZOFFSETTO:-0800
TZNAME:PST
DTSTART:20201101T090000
END:STANDARD
BEGIN:DAYLIGHT
TZOFFSETFROM:-0800
TZOFFSETTO:-0700
TZNAME:PDT
DTSTART:20210314T100000
END:DAYLIGHT
BEGIN:STANDARD
TZOFFSETFROM:-0700
TZOFFSETTO:-0800
TZNAME:PST
DTSTART:20211107T090000
END:STANDARD
END:VTIMEZONE
BEGIN:VEVENT
DTSTART;TZID=America/Vancouver:20200414T160000
DTEND;TZID=America/Vancouver:20200414T160000
DTSTAMP:20260422T070226
CREATED:20200108T220442Z
LAST-MODIFIED:20200108T231902Z
UID:10000366-1586880000-1586880000@qathet.ca
SUMMARY:Planning Committee
DESCRIPTION:
URL:https://qathet.ca/event/planning-committee-4/
LOCATION:qathet Regional District Boardroom\, #201 - 4675 Marine Avenue\, Powell River\, British Columbia\, V8A 2L2\, Canada
CATEGORIES:Planning Committee
ORGANIZER;CN="Michelle Jones%2C Manager of Administrative Services":MAILTO:administration@qathet.ca
END:VEVENT
BEGIN:VEVENT
DTSTART;TZID=America/Vancouver:20200415T154500
DTEND;TZID=America/Vancouver:20200415T154500
DTSTAMP:20260422T070226
CREATED:20200108T230817Z
LAST-MODIFIED:20200409T161004Z
UID:10000334-1586965500-1586965500@qathet.ca
SUMMARY:*CANCELLED* Regional Hospital District Committee of the Whole
DESCRIPTION:
URL:https://qathet.ca/event/regional-hospital-district-committee-of-the-whole-2/
LOCATION:qathet Regional District Boardroom\, #201 - 4675 Marine Avenue\, Powell River\, British Columbia\, V8A 2L2\, Canada
CATEGORIES:Regional Hospital District Committee of the Whole
ORGANIZER;CN="Michelle Jones%2C Manager of Administrative Services":MAILTO:administration@qathet.ca
END:VEVENT
BEGIN:VEVENT
DTSTART;TZID=America/Vancouver:20200415T160000
DTEND;TZID=America/Vancouver:20200415T160000
DTSTAMP:20260422T070226
CREATED:20200108T222120Z
LAST-MODIFIED:20200108T231917Z
UID:10000382-1586966400-1586966400@qathet.ca
SUMMARY:Committee of the Whole
DESCRIPTION:
URL:https://qathet.ca/event/committee-of-the-whole-4/
LOCATION:qathet Regional District Boardroom\, #201 - 4675 Marine Avenue\, Powell River\, British Columbia\, V8A 2L2\, Canada
CATEGORIES:Committee of the Whole
ORGANIZER;CN="Michelle Jones%2C Manager of Administrative Services":MAILTO:administration@qathet.ca
END:VEVENT
BEGIN:VEVENT
DTSTART;VALUE=DATE:20200417
DTEND;VALUE=DATE:20200420
DTSTAMP:20260422T070226
CREATED:20200114T195056Z
LAST-MODIFIED:20200325T164127Z
UID:10000343-1587081600-1587340799@qathet.ca
SUMMARY:*CANCELLED* AVICC - Association of Vancouver Island and Coastal Communities
DESCRIPTION:
URL:https://qathet.ca/event/avicc-association-of-vancouver-island-and-coastal-communities/
LOCATION:Nanaimo\, BC\, Nanaimo\, BC\, Canada
END:VEVENT
BEGIN:VEVENT
DTSTART;TZID=America/Vancouver:20200417T191500
DTEND;TZID=America/Vancouver:20200417T201500
DTSTAMP:20260422T070226
CREATED:20200417T225206Z
LAST-MODIFIED:20200417T225206Z
UID:10000358-1587150900-1587154500@qathet.ca
SUMMARY:Vancouver Coastal Health COVID-19 Virtual Town Hall
DESCRIPTION:Hour-long Vancouver Coastal Health COVID-19 Virtual Town Hall meeting tonight at 7:15pm with Mary Ackenhusen\, VCH CEO and Dr. Patricia Daly\, VCH Chief Medical Health Officer. \nIf you wish to attend\, go to: \n  \nhttps://www.facebook.com/events/564059514229655/ \n  \nwww.gov.bc.ca/covid19townhalls
URL:https://qathet.ca/event/vancouver-coastal-health-covid-19-virtual-town-hall/
LOCATION:Online Meeting
END:VEVENT
BEGIN:VEVENT
DTSTART;TZID=America/Vancouver:20200418T130000
DTEND;TZID=America/Vancouver:20200418T150000
DTSTAMP:20260422T070226
CREATED:20200225T190225Z
LAST-MODIFIED:20200325T182546Z
UID:10000344-1587214800-1587222000@qathet.ca
SUMMARY:*CANCELLED* Texada Airport Advisory Committee (TAAC) - Public Engagement
DESCRIPTION:Public Engagement: Airport Master Development Plan
URL:https://qathet.ca/event/texada-airport-advisory-committee-taac-public-engagement/
LOCATION:BC
CATEGORIES:Texada Airport Advisory Committee
END:VEVENT
BEGIN:VEVENT
DTSTART;TZID=America/Vancouver:20200423T120000
DTEND;TZID=America/Vancouver:20200423T120000
DTSTAMP:20260422T070226
CREATED:20200422T200230Z
LAST-MODIFIED:20200422T200230Z
UID:10000360-1587643200-1587643200@qathet.ca
SUMMARY:Live Q&A with VCH Deputy Chief Medical Health Officer\, Dr. Mark Lysyshyn
DESCRIPTION:Vancouver Coastal Health’s Deputy Chief Medical Health Officer\, Dr. Mark Lysyshyn will do a live Q&A on Facebook tomorrow at noon (Thursday\, April 23\, 2020). You are welcome to join the conversation or just watch. The event will be at https://www.facebook.com/events/2506270269685586/
URL:https://qathet.ca/event/live-qa-with-vch-deputy-chief-medical-health-officer-dr-mark-lysyshyn/
LOCATION:BC
ORGANIZER;CN="Michelle Jones%2C Manager of Administrative Services":MAILTO:administration@qathet.ca
END:VEVENT
BEGIN:VEVENT
DTSTART;TZID=America/Vancouver:20200427T160000
DTEND;TZID=America/Vancouver:20200427T160000
DTSTAMP:20260422T070226
CREATED:20200212T000529Z
LAST-MODIFIED:20200423T214007Z
UID:10000408-1588003200-1588003200@qathet.ca
SUMMARY:*CANCELLED* Regional Public Transportation Service Exploration Working Group
DESCRIPTION:
URL:https://qathet.ca/event/regional-public-transportation-service-exploration-working-group-3/
LOCATION:qathet Regional District Boardroom\, #201 - 4675 Marine Avenue\, Powell River\, British Columbia\, V8A 2L2\, Canada
END:VEVENT
BEGIN:VEVENT
DTSTART;TZID=America/Vancouver:20200430T181500
DTEND;TZID=America/Vancouver:20200430T181500
DTSTAMP:20260422T070226
CREATED:20200108T232607Z
LAST-MODIFIED:20200108T232913Z
UID:10000338-1588270500-1588270500@qathet.ca
SUMMARY:Regional Hospital District Board
DESCRIPTION:
URL:https://qathet.ca/event/regional-hospital-district-board-2/
LOCATION:qathet Regional District Boardroom\, #201 - 4675 Marine Avenue\, Powell River\, British Columbia\, V8A 2L2\, Canada
CATEGORIES:Regional Hospital District Board
ORGANIZER;CN="Michelle Jones%2C Manager of Administrative Services":MAILTO:administration@qathet.ca
END:VEVENT
BEGIN:VEVENT
DTSTART;TZID=America/Vancouver:20200430T183000
DTEND;TZID=America/Vancouver:20200430T183000
DTSTAMP:20260422T070226
CREATED:20200108T225448Z
LAST-MODIFIED:20200108T231922Z
UID:10000394-1588271400-1588271400@qathet.ca
SUMMARY:Regional Board
DESCRIPTION:
URL:https://qathet.ca/event/regional-board-4/
LOCATION:qathet Regional District Boardroom\, #201 - 4675 Marine Avenue\, Powell River\, British Columbia\, V8A 2L2\, Canada
CATEGORIES:Regional Board
ORGANIZER;CN="Michelle Jones%2C Manager of Administrative Services":MAILTO:administration@qathet.ca
END:VEVENT
END:VCALENDAR