BEGIN:VCALENDAR
VERSION:2.0
PRODID:-//qathet Regional District - ECPv6.15.18//NONSGML v1.0//EN
CALSCALE:GREGORIAN
METHOD:PUBLISH
X-WR-CALNAME:qathet Regional District
X-ORIGINAL-URL:https://qathet.ca
X-WR-CALDESC:Events for qathet Regional District
REFRESH-INTERVAL;VALUE=DURATION:PT1H
X-Robots-Tag:noindex
X-PUBLISHED-TTL:PT1H
BEGIN:VTIMEZONE
TZID:America/Vancouver
BEGIN:DAYLIGHT
TZOFFSETFROM:-0800
TZOFFSETTO:-0700
TZNAME:PDT
DTSTART:20190310T100000
END:DAYLIGHT
BEGIN:STANDARD
TZOFFSETFROM:-0700
TZOFFSETTO:-0800
TZNAME:PST
DTSTART:20191103T090000
END:STANDARD
BEGIN:DAYLIGHT
TZOFFSETFROM:-0800
TZOFFSETTO:-0700
TZNAME:PDT
DTSTART:20200308T100000
END:DAYLIGHT
BEGIN:STANDARD
TZOFFSETFROM:-0700
TZOFFSETTO:-0800
TZNAME:PST
DTSTART:20201101T090000
END:STANDARD
BEGIN:DAYLIGHT
TZOFFSETFROM:-0800
TZOFFSETTO:-0700
TZNAME:PDT
DTSTART:20210314T100000
END:DAYLIGHT
BEGIN:STANDARD
TZOFFSETFROM:-0700
TZOFFSETTO:-0800
TZNAME:PST
DTSTART:20211107T090000
END:STANDARD
END:VTIMEZONE
BEGIN:VEVENT
DTSTART;TZID=America/Vancouver:20200302T160000
DTEND;TZID=America/Vancouver:20200302T160000
DTSTAMP:20260421T230749
CREATED:20200211T235937Z
LAST-MODIFIED:20200212T000441Z
UID:10000407-1583164800-1583164800@qathet.ca
SUMMARY:Regional Public Transportation Service Exploration Working Group
DESCRIPTION:qathetq
URL:https://qathet.ca/event/regional-public-transportation-service-exploration-working-group/
LOCATION:qathet Regional District Boardroom\, #201 - 4675 Marine Avenue\, Powell River\, British Columbia\, V8A 2L2\, Canada
END:VEVENT
BEGIN:VEVENT
DTSTART;TZID=America/Vancouver:20200310T160000
DTEND;TZID=America/Vancouver:20200310T160000
DTSTAMP:20260421T230749
CREATED:20200108T220347Z
LAST-MODIFIED:20200108T231809Z
UID:10000365-1583856000-1583856000@qathet.ca
SUMMARY:Planning Committee
DESCRIPTION:
URL:https://qathet.ca/event/planning-committee-3/
LOCATION:qathet Regional District Boardroom\, #201 - 4675 Marine Avenue\, Powell River\, British Columbia\, V8A 2L2\, Canada
CATEGORIES:Planning Committee
ORGANIZER;CN="Michelle Jones%2C Manager of Administrative Services":MAILTO:administration@qathet.ca
END:VEVENT
BEGIN:VEVENT
DTSTART;TZID=America/Vancouver:20200311T170000
DTEND;TZID=America/Vancouver:20200311T170000
DTSTAMP:20260421T230749
CREATED:20200309T181818Z
LAST-MODIFIED:20200309T181818Z
UID:10000348-1583946000-1583946000@qathet.ca
SUMMARY:Texada Island Recreation Commission (TIRC)
DESCRIPTION:
URL:https://qathet.ca/event/texada-island-recreation-commission-tirc/
LOCATION:First Credit Union – Texada Island\, 2021 Legion Road\, Van Anda\, British Columbia\, V0N 3K0\, Canada
END:VEVENT
BEGIN:VEVENT
DTSTART;TZID=America/Vancouver:20200312T160000
DTEND;TZID=America/Vancouver:20200312T160000
DTSTAMP:20260421T230749
CREATED:20200108T222028Z
LAST-MODIFIED:20200108T231818Z
UID:10000381-1584028800-1584028800@qathet.ca
SUMMARY:Committee of the Whole
DESCRIPTION:
URL:https://qathet.ca/event/committee-of-the-whole-3/
LOCATION:qathet Regional District Boardroom\, #201 - 4675 Marine Avenue\, Powell River\, British Columbia\, V8A 2L2\, Canada
CATEGORIES:Committee of the Whole
ORGANIZER;CN="Michelle Jones%2C Manager of Administrative Services":MAILTO:administration@qathet.ca
END:VEVENT
BEGIN:VEVENT
DTSTART;TZID=America/Vancouver:20200318T154500
DTEND;TZID=America/Vancouver:20200318T154500
DTSTAMP:20260421T230749
CREATED:20200228T195841Z
LAST-MODIFIED:20200318T185608Z
UID:10000346-1584546300-1584546300@qathet.ca
SUMMARY:Special Regional Hospital District Committee of the Whole
DESCRIPTION:
URL:https://qathet.ca/event/special-regional-hospital-district-committee-of-the-whole/
LOCATION:Royal Canadian Legion – Lower Level\, 6811 Alexander Street\, Powell River\, BC\, V8A 2A9\, Canada
CATEGORIES:Regional Hospital District Committee of the Whole
END:VEVENT
BEGIN:VEVENT
DTSTART;TZID=America/Vancouver:20200318T160000
DTEND;TZID=America/Vancouver:20200318T160000
DTSTAMP:20260421T230749
CREATED:20200108T221450Z
LAST-MODIFIED:20200318T185726Z
UID:10000375-1584547200-1584547200@qathet.ca
SUMMARY:Finance Committee
DESCRIPTION:
URL:https://qathet.ca/event/finance-committee-3/
LOCATION:Royal Canadian Legion – Lower Level\, 6811 Alexander Street\, Powell River\, BC\, V8A 2A9\, Canada
CATEGORIES:Finance Committee
END:VEVENT
BEGIN:VEVENT
DTSTART;TZID=America/Vancouver:20200320T100000
DTEND;TZID=America/Vancouver:20200320T100000
DTSTAMP:20260421T230749
CREATED:20200309T181923Z
LAST-MODIFIED:20200317T174255Z
UID:10000350-1584698400-1584698400@qathet.ca
SUMMARY:--POSTPONED-- Savary Island Marine Advisory Committee (SIMAC)
DESCRIPTION:
URL:https://qathet.ca/event/savary-island-marine-advisory-committee-simac/
LOCATION:BC
END:VEVENT
BEGIN:VEVENT
DTSTART;TZID=America/Vancouver:20200323T160000
DTEND;TZID=America/Vancouver:20200323T160000
DTSTAMP:20260421T230749
CREATED:20200319T155818Z
LAST-MODIFIED:20200319T155913Z
UID:10000352-1584979200-1584979200@qathet.ca
SUMMARY:**CANCELLED** Regional Public Transportation Service Exploration Working Group
DESCRIPTION:
URL:https://qathet.ca/event/cancelled-regional-public-transportation-service-exploration-working-group/
LOCATION:BC
END:VEVENT
BEGIN:VEVENT
DTSTART;TZID=America/Vancouver:20200326T100000
DTEND;TZID=America/Vancouver:20200326T100000
DTSTAMP:20260421T230749
CREATED:20200323T211408Z
LAST-MODIFIED:20200323T211432Z
UID:10000356-1585216800-1585216800@qathet.ca
SUMMARY:Special Regional Board
DESCRIPTION:
URL:https://qathet.ca/event/special-regional-board-meeting/
LOCATION:qathet Regional District Boardroom\, #201 - 4675 Marine Avenue\, Powell River\, British Columbia\, V8A 2L2\, Canada
END:VEVENT
BEGIN:VEVENT
DTSTART;TZID=America/Vancouver:20200330T181500
DTEND;TZID=America/Vancouver:20200330T181500
DTSTAMP:20260421T230749
CREATED:20200319T212740Z
LAST-MODIFIED:20200319T212740Z
UID:10000354-1585592100-1585592100@qathet.ca
SUMMARY:Special Regional Hospital District Board Meeting
DESCRIPTION:
URL:https://qathet.ca/event/special-regional-hospital-district-board-meeting/
LOCATION:qathet Regional District Boardroom\, #201 - 4675 Marine Avenue\, Powell River\, British Columbia\, V8A 2L2\, Canada
END:VEVENT
BEGIN:VEVENT
DTSTART;TZID=America/Vancouver:20200330T183000
DTEND;TZID=America/Vancouver:20200330T183000
DTSTAMP:20260421T230749
CREATED:20200108T225413Z
LAST-MODIFIED:20200108T231855Z
UID:10000393-1585593000-1585593000@qathet.ca
SUMMARY:Regional Board
DESCRIPTION:
URL:https://qathet.ca/event/regional-board-3/
LOCATION:qathet Regional District Boardroom\, #201 - 4675 Marine Avenue\, Powell River\, British Columbia\, V8A 2L2\, Canada
CATEGORIES:Regional Board
ORGANIZER;CN="Michelle Jones%2C Manager of Administrative Services":MAILTO:administration@qathet.ca
END:VEVENT
END:VCALENDAR