BEGIN:VCALENDAR
VERSION:2.0
PRODID:-//qathet Regional District - ECPv6.15.18//NONSGML v1.0//EN
CALSCALE:GREGORIAN
METHOD:PUBLISH
X-ORIGINAL-URL:https://qathet.ca
X-WR-CALDESC:Events for qathet Regional District
REFRESH-INTERVAL;VALUE=DURATION:PT1H
X-Robots-Tag:noindex
X-PUBLISHED-TTL:PT1H
BEGIN:VTIMEZONE
TZID:America/Vancouver
BEGIN:DAYLIGHT
TZOFFSETFROM:-0800
TZOFFSETTO:-0700
TZNAME:PDT
DTSTART:20190310T100000
END:DAYLIGHT
BEGIN:STANDARD
TZOFFSETFROM:-0700
TZOFFSETTO:-0800
TZNAME:PST
DTSTART:20191103T090000
END:STANDARD
BEGIN:DAYLIGHT
TZOFFSETFROM:-0800
TZOFFSETTO:-0700
TZNAME:PDT
DTSTART:20200308T100000
END:DAYLIGHT
BEGIN:STANDARD
TZOFFSETFROM:-0700
TZOFFSETTO:-0800
TZNAME:PST
DTSTART:20201101T090000
END:STANDARD
BEGIN:DAYLIGHT
TZOFFSETFROM:-0800
TZOFFSETTO:-0700
TZNAME:PDT
DTSTART:20210314T100000
END:DAYLIGHT
BEGIN:STANDARD
TZOFFSETFROM:-0700
TZOFFSETTO:-0800
TZNAME:PST
DTSTART:20211107T090000
END:STANDARD
END:VTIMEZONE
BEGIN:VEVENT
DTSTART;TZID=America/Vancouver:20200211T160000
DTEND;TZID=America/Vancouver:20200211T160000
DTSTAMP:20260422T012417
CREATED:20200108T220056Z
LAST-MODIFIED:20200108T231726Z
UID:10000364-1581436800-1581436800@qathet.ca
SUMMARY:Planning Committee
DESCRIPTION:
URL:https://qathet.ca/event/planning-committee-2/
LOCATION:qathet Regional District Boardroom\, #201 - 4675 Marine Avenue\, Powell River\, British Columbia\, V8A 2L2\, Canada
CATEGORIES:Planning Committee
ORGANIZER;CN="Michelle Jones%2C Manager of Administrative Services":MAILTO:administration@qathet.ca
END:VEVENT
BEGIN:VEVENT
DTSTART;TZID=America/Vancouver:20200213T154500
DTEND;TZID=America/Vancouver:20200213T154500
DTSTAMP:20260422T012417
CREATED:20200108T230703Z
LAST-MODIFIED:20200211T222537Z
UID:10000403-1581608700-1581608700@qathet.ca
SUMMARY:Regional Hospital District Committee of the Whole
DESCRIPTION:
URL:https://qathet.ca/event/regional-hospital-district-committee-of-the-whole/
LOCATION:qathet Regional District Boardroom\, #201 - 4675 Marine Avenue\, Powell River\, British Columbia\, V8A 2L2\, Canada
CATEGORIES:Regional Hospital District Committee of the Whole
ORGANIZER;CN="Michelle Jones%2C Manager of Administrative Services":MAILTO:administration@qathet.ca
END:VEVENT
BEGIN:VEVENT
DTSTART;TZID=America/Vancouver:20200213T160000
DTEND;TZID=America/Vancouver:20200213T160000
DTSTAMP:20260422T012417
CREATED:20200108T221942Z
LAST-MODIFIED:20200108T231748Z
UID:10000380-1581609600-1581609600@qathet.ca
SUMMARY:Committee of the Whole
DESCRIPTION:
URL:https://qathet.ca/event/committee-of-the-whole-2/
LOCATION:qathet Regional District Boardroom\, #201 - 4675 Marine Avenue\, Powell River\, British Columbia\, V8A 2L2\, Canada
CATEGORIES:Committee of the Whole
ORGANIZER;CN="Michelle Jones%2C Manager of Administrative Services":MAILTO:administration@qathet.ca
END:VEVENT
BEGIN:VEVENT
DTSTART;TZID=America/Vancouver:20200219T160000
DTEND;TZID=America/Vancouver:20200219T160000
DTSTAMP:20260422T012417
CREATED:20200108T221400Z
LAST-MODIFIED:20200108T231754Z
UID:10000374-1582128000-1582128000@qathet.ca
SUMMARY:Finance Committee
DESCRIPTION:
URL:https://qathet.ca/event/finance-committee-2/
LOCATION:qathet Regional District Boardroom\, #201 - 4675 Marine Avenue\, Powell River\, British Columbia\, V8A 2L2\, Canada
CATEGORIES:Finance Committee
ORGANIZER;CN="Michelle Jones%2C Manager of Administrative Services":MAILTO:administration@qathet.ca
END:VEVENT
BEGIN:VEVENT
DTSTART;TZID=America/Vancouver:20200224T170000
DTEND;TZID=America/Vancouver:20200224T170000
DTSTAMP:20260422T012417
CREATED:20200114T194811Z
LAST-MODIFIED:20200114T194811Z
UID:10000342-1582563600-1582563600@qathet.ca
SUMMARY:Texada Airport Advisory Committee
DESCRIPTION:
URL:https://qathet.ca/event/texada-airport-advisory-committee/
LOCATION:Texada Community Hall\, 4913 Gillies Bay Rd\, Gillies Bay\, BC\, Canada
END:VEVENT
BEGIN:VEVENT
DTSTART;TZID=America/Vancouver:20200226T133000
DTEND;TZID=America/Vancouver:20200226T133000
DTSTAMP:20260422T012417
CREATED:20200214T232846Z
LAST-MODIFIED:20200214T232950Z
UID:10000412-1582723800-1582723800@qathet.ca
SUMMARY:Agricultural Advisory Committee
DESCRIPTION:
URL:https://qathet.ca/event/agricultural-advisory-committee-meeting/
LOCATION:qathet Regional District Boardroom\, #201 - 4675 Marine Avenue\, Powell River\, British Columbia\, V8A 2L2\, Canada
END:VEVENT
BEGIN:VEVENT
DTSTART;TZID=America/Vancouver:20200227T181500
DTEND;TZID=America/Vancouver:20200227T181500
DTSTAMP:20260422T012417
CREATED:20200108T232527Z
LAST-MODIFIED:20200108T232920Z
UID:10000337-1582827300-1582827300@qathet.ca
SUMMARY:Regional Hospital District Board
DESCRIPTION:
URL:https://qathet.ca/event/regional-hospital-district-board/
LOCATION:qathet Regional District Boardroom\, #201 - 4675 Marine Avenue\, Powell River\, British Columbia\, V8A 2L2\, Canada
CATEGORIES:Regional Hospital District Board
ORGANIZER;CN="Michelle Jones%2C Manager of Administrative Services":MAILTO:administration@qathet.ca
END:VEVENT
BEGIN:VEVENT
DTSTART;TZID=America/Vancouver:20200227T183000
DTEND;TZID=America/Vancouver:20200227T183000
DTSTAMP:20260422T012417
CREATED:20200108T225330Z
LAST-MODIFIED:20200108T231802Z
UID:10000392-1582828200-1582828200@qathet.ca
SUMMARY:Regional Board
DESCRIPTION:
URL:https://qathet.ca/event/regional-board-2/
LOCATION:qathet Regional District Boardroom\, #201 - 4675 Marine Avenue\, Powell River\, British Columbia\, V8A 2L2\, Canada
CATEGORIES:Regional Board
ORGANIZER;CN="Michelle Jones%2C Manager of Administrative Services":MAILTO:administration@qathet.ca
END:VEVENT
END:VCALENDAR