BEGIN:VCALENDAR
VERSION:2.0
PRODID:-//qathet Regional District - ECPv6.15.18//NONSGML v1.0//EN
CALSCALE:GREGORIAN
METHOD:PUBLISH
X-WR-CALNAME:qathet Regional District
X-ORIGINAL-URL:https://qathet.ca
X-WR-CALDESC:Events for qathet Regional District
REFRESH-INTERVAL;VALUE=DURATION:PT1H
X-Robots-Tag:noindex
X-PUBLISHED-TTL:PT1H
BEGIN:VTIMEZONE
TZID:America/Vancouver
BEGIN:DAYLIGHT
TZOFFSETFROM:-0800
TZOFFSETTO:-0700
TZNAME:PDT
DTSTART:20190310T100000
END:DAYLIGHT
BEGIN:STANDARD
TZOFFSETFROM:-0700
TZOFFSETTO:-0800
TZNAME:PST
DTSTART:20191103T090000
END:STANDARD
BEGIN:DAYLIGHT
TZOFFSETFROM:-0800
TZOFFSETTO:-0700
TZNAME:PDT
DTSTART:20200308T100000
END:DAYLIGHT
BEGIN:STANDARD
TZOFFSETFROM:-0700
TZOFFSETTO:-0800
TZNAME:PST
DTSTART:20201101T090000
END:STANDARD
BEGIN:DAYLIGHT
TZOFFSETFROM:-0800
TZOFFSETTO:-0700
TZNAME:PDT
DTSTART:20210314T100000
END:DAYLIGHT
BEGIN:STANDARD
TZOFFSETFROM:-0700
TZOFFSETTO:-0800
TZNAME:PST
DTSTART:20211107T090000
END:STANDARD
END:VTIMEZONE
BEGIN:VEVENT
DTSTART;TZID=America/Vancouver:20200114T100000
DTEND;TZID=America/Vancouver:20200114T100000
DTSTAMP:20260422T000515
CREATED:20200114T193951Z
LAST-MODIFIED:20200114T193951Z
UID:10000341-1578996000-1578996000@qathet.ca
SUMMARY:Social Action & Planning Advisory Committee
DESCRIPTION:
URL:https://qathet.ca/event/social-action-planning-advisory-committee/
LOCATION:qathet Regional District Boardroom\, #201 - 4675 Marine Avenue\, Powell River\, British Columbia\, V8A 2L2\, Canada
END:VEVENT
BEGIN:VEVENT
DTSTART;TZID=America/Vancouver:20200114T160000
DTEND;TZID=America/Vancouver:20200114T160000
DTSTAMP:20260422T000515
CREATED:20200108T215216Z
LAST-MODIFIED:20200108T233232Z
UID:10000363-1579017600-1579017600@qathet.ca
SUMMARY:Inaugural Planning Committee
DESCRIPTION:
URL:https://qathet.ca/event/planning-committee/
LOCATION:qathet Regional District Boardroom\, #201 - 4675 Marine Avenue\, Powell River\, British Columbia\, V8A 2L2\, Canada
CATEGORIES:Planning Committee
ORGANIZER;CN="Michelle Jones%2C Manager of Administrative Services":MAILTO:administration@qathet.ca
END:VEVENT
BEGIN:VEVENT
DTSTART;TZID=America/Vancouver:20200116T160000
DTEND;TZID=America/Vancouver:20200116T160000
DTSTAMP:20260422T000515
CREATED:20200108T221857Z
LAST-MODIFIED:20200108T233322Z
UID:10000379-1579190400-1579190400@qathet.ca
SUMMARY:Inaugural Committee of the Whole
DESCRIPTION:
URL:https://qathet.ca/event/committee-of-the-whole/
LOCATION:qathet Regional District Boardroom\, #201 - 4675 Marine Avenue\, Powell River\, British Columbia\, V8A 2L2\, Canada
CATEGORIES:Committee of the Whole
ORGANIZER;CN="Michelle Jones%2C Manager of Administrative Services":MAILTO:administration@qathet.ca
END:VEVENT
BEGIN:VEVENT
DTSTART;TZID=America/Vancouver:20200122T160000
DTEND;TZID=America/Vancouver:20200122T160000
DTSTAMP:20260422T000515
CREATED:20200108T221320Z
LAST-MODIFIED:20200108T233303Z
UID:10000373-1579708800-1579708800@qathet.ca
SUMMARY:Inaugural Finance Committee
DESCRIPTION:  \n 
URL:https://qathet.ca/event/finance-committee/
LOCATION:qathet Regional District Boardroom\, #201 - 4675 Marine Avenue\, Powell River\, British Columbia\, V8A 2L2\, Canada
CATEGORIES:Finance Committee
ORGANIZER;CN="Michelle Jones%2C Manager of Administrative Services":MAILTO:administration@qathet.ca
END:VEVENT
BEGIN:VEVENT
DTSTART;TZID=America/Vancouver:20200130T180000
DTEND;TZID=America/Vancouver:20200130T180000
DTSTAMP:20260422T000515
CREATED:20200122T222943Z
LAST-MODIFIED:20200122T222943Z
UID:10000406-1580407200-1580407200@qathet.ca
SUMMARY:Special Regional Hospital District Committee of the Whole Meeting
DESCRIPTION:
URL:https://qathet.ca/event/special-regional-hospital-district-committee-of-the-whole-meeting/
LOCATION:qathet Regional District Boardroom\, #201 - 4675 Marine Avenue\, Powell River\, British Columbia\, V8A 2L2\, Canada
CATEGORIES:Regional Hospital District Committee of the Whole
END:VEVENT
BEGIN:VEVENT
DTSTART;TZID=America/Vancouver:20200130T183000
DTEND;TZID=America/Vancouver:20200130T183000
DTSTAMP:20260422T000515
CREATED:20200108T225249Z
LAST-MODIFIED:20200108T231718Z
UID:10000391-1580409000-1580409000@qathet.ca
SUMMARY:Regional Board
DESCRIPTION:
URL:https://qathet.ca/event/regional-board/
LOCATION:qathet Regional District Boardroom\, #201 - 4675 Marine Avenue\, Powell River\, British Columbia\, V8A 2L2\, Canada
CATEGORIES:Regional Board
ORGANIZER;CN="Michelle Jones%2C Manager of Administrative Services":MAILTO:administration@qathet.ca
END:VEVENT
END:VCALENDAR